Workbook

Sheet AP Export
A1: Record ID | B1: Invoice Number | C1: Vendor ID | D1: Vendor | E1: Invoice Date | F1: Amount | G1: Approved | H1: Approver | I1: Purchase Order | J1: Department | K1: Payment Terms | L1: High-Dollar Unapproved | M1: Missing PO | N1: Missing Vendor ID | O1: Duplicate Invoice | P1: Weekend Posting | Q1: Exception Status
A2: 1 | B2: INV-100001 | C2: V1011 | D2: Keystone Security | E2: 46038 | F2: 1934.6 | G2: Yes | H2: A. Brooks | I2: PO-2026-1001 | J2: Operations | K2: Net 15 | L2: =IF(AND(F2>Dashboard!$B$3,G2="No"),"Yes","") | M2: =IF(I2="","Yes","") | N2: =IF(C2="","Yes","") | O2: =IF(COUNTIF($B$2:$B$301,B7)>1,"Yes","") | P2: =IF(WEEKDAY(E2,2)>5,"Yes","") | Q2: =_xlfn.LET(_xlpm.HighAmt,L2="Yes",_xlpm.MissingPO,M2="Yes",_xlpm.DupInv,O2="Yes",_xlpm.MissingVendor,N2="Yes",_xlpm.WeekendPost,P2="Yes",_xlfn.TEXTJOIN("; ",TRUE,IF(_xlpm.HighAmt,"High-dollar unapproved",""),IF(_xlpm.MissingPO,"Missing PO",""),IF(_xlpm.DupInv,"Duplicate invoice",""),IF(_xlpm.MissingVendor,"Missing vendor ID",""),IF(_xlpm.WeekendPost,"Weekend posting","")))
A3: 2 | B3: INV-100002 | C3: V1006 | D3: Franklin Facility Services | E3: 46140 | F3: 3676.26 | G3: No | I3: PO-2026-1002 | J3: Sales | K3: Net 15 | L3: =IF(AND(F3>Dashboard!$B$3,G3="No"),"Yes","") | M3: =IF(I3="","Yes","") | N3: =IF(C3="","Yes","") | O3: =IF(COUNTIF($B$2:$B$301,B8)>1,"Yes","") | P3: =IF(WEEKDAY(E3,2)>5,"Yes","") | Q3: =_xlfn.LET(_xlpm.HighAmt,L3="Yes",_xlpm.MissingPO,M3="Yes",_xlpm.DupInv,O3="Yes",_xlpm.MissingVendor,N3="Yes",_xlpm.WeekendPost,P3="Yes",_xlfn.TEXTJOIN("; ",TRUE,IF(_xlpm.HighAmt,"High-dollar unapproved",""),IF(_xlpm.MissingPO,"Missing PO",""),IF(_xlpm.DupInv,"Duplicate invoice",""),IF(_xlpm.MissingVendor,"Missing vendor ID",""),IF(_xlpm.WeekendPost,"Weekend posting","")))
A4: 3 | B4: INV-100003 | C4: V1013 | D4: Metro Courier Services | E4: 46060 | F4: 730.62 | G4: Yes | H4: E. Carter | I4: PO-2026-1003 | J4: Information Technology | K4: Net 30 | L4: =IF(AND(F4>Dashboard!$B$3,G4="No"),"Yes","") | M4: =IF(I4="","Yes","") | N4: =IF(C4="","Yes","") | O4: =IF(COUNTIF($B$2:$B$301,B9)>1,"Yes","") | P4: =IF(WEEKDAY(E4,2)>5,"Yes","") -> Yes | Q4: =_xlfn.LET(_xlpm.HighAmt,L4="Yes",_xlpm.MissingPO,M4="Yes",_xlpm.DupInv,O4="Yes",_xlpm.MissingVendor,N4="Yes",_xlpm.WeekendPost,P4="Yes",_xlfn.TEXTJOIN("; ",TRUE,IF(_xlpm.HighAmt,"High-dollar unapproved",""),IF(_xlpm.MissingPO,"Missing PO",""),IF(_xlpm.DupInv,"Duplicate invoice",""),IF(_xlpm.MissingVendor,"Missing vendor ID",""),IF(_xlpm.WeekendPost,"Weekend posting",""))) -> Weekend posting
A5: 4 | B5: INV-100004 | C5: V1005 | D5: Evergreen Consulting | E5: 46034 | F5: 310.34 | G5: Yes | H5: J. Ramirez | I5: PO-2026-1004 | J5: Information Technology | K5: Net 45 | L5: =IF(AND(F5>Dashboard!$B$3,G5="No"),"Yes","") | M5: =IF(I5="","Yes","") | N5: =IF(C5="","Yes","") | O5: =IF(COUNTIF($B$2:$B$301,B10)>1,"Yes","") | P5: =IF(WEEKDAY(E5,2)>5,"Yes","") | Q5: =_xlfn.LET(_xlpm.HighAmt,L5="Yes",_xlpm.MissingPO,M5="Yes",_xlpm.DupInv,O5="Yes",_xlpm.MissingVendor,N5="Yes",_xlpm.WeekendPost,P5="Yes",_xlfn.TEXTJOIN("; ",TRUE,IF(_xlpm.HighAmt,"High-dollar unapproved",""),IF(_xlpm.MissingPO,"Missing PO",""),IF(_xlpm.DupInv,"Duplicate invoice",""),IF(_xlpm.MissingVendor,"Missing vendor ID",""),IF(_xlpm.WeekendPost,"Weekend posting","")))
A6: 5 | B6: INV-100005 | C6: V1014 | D6: Nashville Paper Company | E6: 46156 | F6: 3335.66 | G6: Yes | H6: S. Walker | J6: Facilities | K6: Net 30 | L6: =IF(AND(F6>Dashboard!$B$3,G6="No"),"Yes","") | M6: =IF(I6="","Yes","") -> Yes | N6: =IF(C6="","Yes","") | O6: =IF(COUNTIF($B$2:$B$301,B11)>1,"Yes","") | P6: =IF(WEEKDAY(E6,2)>5,"Yes","") | Q6: =_xlfn.LET(_xlpm.HighAmt,L6="Yes",_xlpm.MissingPO,M6="Yes",_xlpm.DupInv,O6="Yes",_xlpm.MissingVendor,N6="Yes",_xlpm.WeekendPost,P6="Yes",_xlfn.TEXTJOIN("; ",TRUE,IF(_xlpm.HighAmt,"High-dollar unapproved",""),IF(_xlpm.MissingPO,"Missing PO",""),IF(_xlpm.DupInv,"Duplicate invoice",""),IF(_xlpm.MissingVendor,"Missing vendor ID",""),IF(_xlpm.WeekendPost,"Weekend posting",""))) -> Missing PO
A7: 6 | B7: INV-100006 | C7: V1005 | D7: Evergreen Consulting | E7: 46097 | F7: 358.23 | G7: Yes | H7: A. Brooks | I7: PO-2026-1006 | J7: Purchasing | K7: Net 30 | L7: =IF(AND(F7>Dashboard!$B$3,G7="No"),"Yes","") | M7: =IF(I7="","Yes","") | N7: =IF(C7="","Yes","") | O7: =IF(COUNTIF($B$2:$B$301,B12)>1,"Yes","") | P7: =IF(WEEKDAY(E7,2)>5,"Yes","") | Q7: =_xlfn.LET(_xlpm.HighAmt,L7="Yes",_xlpm.MissingPO,M7="Yes",_xlpm.DupInv,O7="Yes",_xlpm.MissingVendor,N7="Yes",_xlpm.WeekendPost,P7="Yes",_xlfn.TEXTJOIN("; ",TRUE,IF(_xlpm.HighAmt,"High-dollar unapproved",""),IF(_xlpm.MissingPO,"Missing PO",""),IF(_xlpm.DupInv,"Duplicate invoice",""),IF(_xlpm.MissingVendor,"Missing vendor ID",""),IF(_xlpm.WeekendPost,"Weekend posting","")))
A8: 7 | B8: INV-100007 | C8: V1018 | D8: River City Couriers | E8: 46197 | F8: 2789.3 | G8: No | I8: PO-2026-1007 | J8: Human Resources | K8: Due on receipt | L8: =IF(AND(F8>Dashboard!$B$3,G8="No"),"Yes","") | M8: =IF(I8="","Yes","") | N8: =IF(C8="","Yes","") | O8: =IF(COUNTIF($B$2:$B$301,B13)>1,"Yes","") | P8: =IF(WEEKDAY(E8,2)>5,"Yes","") | Q8: =_xlfn.LET(_xlpm.HighAmt,L8="Yes",_xlpm.MissingPO,M8="Yes",_xlpm.DupInv,O8="Yes",_xlpm.MissingVendor,N8="Yes",_xlpm.WeekendPost,P8="Yes",_xlfn.TEXTJOIN("; ",TRUE,IF(_xlpm.HighAmt,"High-dollar unapproved",""),IF(_xlpm.MissingPO,"Missing PO",""),IF(_xlpm.DupInv,"Duplicate invoice",""),IF(_xlpm.MissingVendor,"Missing vendor ID",""),IF(_xlpm.WeekendPost,"Weekend posting","")))
A9: 8 | B9: INV-100008 | C9: V1010 | D9: Jefferson Office Interiors | E9: 46027 | F9: 2015.64 | G9: Yes | H9: J. Ramirez | I9: PO-2026-1008 | J9: Marketing | K9: Net 15 | L9: =IF(AND(F9>Dashboard!$B$3,G9="No"),"Yes","") | M9: =IF(I9="","Yes","") | N9: =IF(C9="","Yes","") | O9: =IF(COUNTIF($B$2:$B$301,B14)>1,"Yes","") | P9: =IF(WEEKDAY(E9,2)>5,"Yes","") | Q9: =_xlfn.LET(_xlpm.HighAmt,L9="Yes",_xlpm.MissingPO,M9="Yes",_xlpm.DupInv,O9="Yes",_xlpm.MissingVendor,N9="Yes",_xlpm.WeekendPost,P9="Yes",_xlfn.TEXTJOIN("; ",TRUE,IF(_xlpm.HighAmt,"High-dollar unapproved",""),IF(_xlpm.MissingPO,"Missing PO",""),IF(_xlpm.DupInv,"Duplicate invoice",""),IF(_xlpm.MissingVendor,"Missing vendor ID",""),IF(_xlpm.WeekendPost,"Weekend posting","")))
A10: 9 | B10: INV-100009 | D10: Pioneer Packaging | E10: 46064 | F10: 7319.92 | G10: No | I10: PO-2026-1009 | J10: Information Technology | K10: Net 30 | L10: =IF(AND(F10>Dashboard!$B$3,G10="No"),"Yes","") | M10: =IF(I10="","Yes","") | N10: =IF(C10="","Yes","") -> Yes | O10: =IF(COUNTIF($B$2:$B$301,B15)>1,"Yes","") | P10: =IF(WEEKDAY(E10,2)>5,"Yes","") | Q10: =_xlfn.LET(_xlpm.HighAmt,L10="Yes",_xlpm.MissingPO,M10="Yes",_xlpm.DupInv,O10="Yes",_xlpm.MissingVendor,N10="Yes",_xlpm.WeekendPost,P10="Yes",_xlfn.TEXTJOIN("; ",TRUE,IF(_xlpm.HighAmt,"High-dollar unapproved",""),IF(_xlpm.MissingPO,"Missing PO",""),IF(_xlpm.DupInv,"Duplicate invoice",""),IF(_xlpm.MissingVendor,"Missing vendor ID",""),IF(_xlpm.WeekendPost,"Weekend posting",""))) -> Missing vendor ID
A11: 10 | B11: INV-100010 | C11: V1019 | D11: Summit Professional Services | E11: 46153 | F11: 628.46 | G11: Yes | H11: S. Walker | I11: PO-2026-1010 | J11: Facilities | K11: Net 30 | L11: =IF(AND(F11>Dashboard!$B$3,G11="No"),"Yes","") | M11: =IF(I11="","Yes","") | N11: =IF(C11="","Yes","") | O11: =IF(COUNTIF($B$2:$B$301,B16)>1,"Yes","") | P11: =IF(WEEKDAY(E11,2)>5,"Yes","") | Q11: =_xlfn.LET(_xlpm.HighAmt,L11="Yes",_xlpm.MissingPO,M11="Yes",_xlpm.DupInv,O11="Yes",_xlpm.MissingVendor,N11="Yes",_xlpm.WeekendPost,P11="Yes",_xlfn.TEXTJOIN("; ",TRUE,IF(_xlpm.HighAmt,"High-dollar unapproved",""),IF(_xlpm.MissingPO,"Missing PO",""),IF(_xlpm.DupInv,"Duplicate invoice",""),IF(_xlpm.MissingVendor,"Missing vendor ID",""),IF(_xlpm.WeekendPost,"Weekend posting","")))
A12: 11 | B12: INV-100011 | C12: V1008 | D12: Highland Medical Supply | E12: 46098 | F12: 212.48 | G12: Yes | H12: M. Thompson | I12: PO-2026-1011 | J12: Operations | K12: Net 15 | L12: =IF(AND(F12>Dashboard!$B$3,G12="No"),"Yes","") | M12: =IF(I12="","Yes","") | N12: =IF(C12="","Yes","") | O12: =IF(COUNTIF($B$2:$B$301,B17)>1,"Yes","") | P12: =IF(WEEKDAY(E12,2)>5,"Yes","") | Q12: =_xlfn.LET(_xlpm.HighAmt,L12="Yes",_xlpm.MissingPO,M12="Yes",_xlpm.DupInv,O12="Yes",_xlpm.MissingVendor,N12="Yes",_xlpm.WeekendPost,P12="Yes",_xlfn.TEXTJOIN("; ",TRUE,IF(_xlpm.HighAmt,"High-dollar unapproved",""),IF(_xlpm.MissingPO,"Missing PO",""),IF(_xlpm.DupInv,"Duplicate invoice",""),IF(_xlpm.MissingVendor,"Missing vendor ID",""),IF(_xlpm.WeekendPost,"Weekend posting","")))
A13: 12 | B13: INV-100012 | C13: V1015 | D13: Oak Street Maintenance | E13: 46104 | F13: 26357.43 | G13: No | I13: PO-2026-1012 | J13: Accounting | K13: Due on receipt | L13: =IF(AND(F13>Dashboard!$B$3,G13="No"),"Yes","") -> Yes | M13: =IF(I13="","Yes","") | N13: =IF(C13="","Yes","") | O13: =IF(COUNTIF($B$2:$B$301,B18)>1,"Yes","") | P13: =IF(WEEKDAY(E13,2)>5,"Yes","") | Q13: =_xlfn.LET(_xlpm.HighAmt,L13="Yes",_xlpm.MissingPO,M13="Yes",_xlpm.DupInv,O13="Yes",_xlpm.MissingVendor,N13="Yes",_xlpm.WeekendPost,P13="Yes",_xlfn.TEXTJOIN("; ",TRUE,IF(_xlpm.HighAmt,"High-dollar unapproved",""),IF(_xlpm.MissingPO,"Missing PO",""),IF(_xlpm.DupInv,"Duplicate invoice",""),IF(_xlpm.MissingVendor,"Missing vendor ID",""),IF(_xlpm.WeekendPost,"Weekend posting",""))) -> High-dollar unapproved
A14: 13 | B14: INV-100013 | C14: V1018 | D14: River City Couriers | E14: 46161 | F14: 3964.78 | G14: No | I14: PO-2026-1013 | J14: Purchasing | K14: Net 30 | L14: =IF(AND(F14>Dashboard!$B$3,G14="No"),"Yes","") | M14: =IF(I14="","Yes","") | N14: =IF(C14="","Yes","") | O14: =IF(COUNTIF($B$2:$B$301,B19)>1,"Yes","") | P14: =IF(WEEKDAY(E14,2)>5,"Yes","") | Q14: =_xlfn.LET(_xlpm.HighAmt,L14="Yes",_xlpm.MissingPO,M14="Yes",_xlpm.DupInv,O14="Yes",_xlpm.MissingVendor,N14="Yes",_xlpm.WeekendPost,P14="Yes",_xlfn.TEXTJOIN("; ",TRUE,IF(_xlpm.HighAmt,"High-dollar unapproved",""),IF(_xlpm.MissingPO,"Missing PO",""),IF(_xlpm.DupInv,"Duplicate invoice",""),IF(_xlpm.MissingVendor,"Missing vendor ID",""),IF(_xlpm.WeekendPost,"Weekend posting","")))
A15: 14 | B15: INV-100014 | C15: V1018 | D15: River City Couriers | E15: 46132 | F15: 2025.04 | G15: Yes | H15: S. Walker | I15: PO-2026-1014 | J15: Sales | K15: Net 30 | L15: =IF(AND(F15>Dashboard!$B$3,G15="No"),"Yes","") | M15: =IF(I15="","Yes","") | N15: =IF(C15="","Yes","") | O15: =IF(COUNTIF($B$2:$B$301,B20)>1,"Yes","") | P15: =IF(WEEKDAY(E15,2)>5,"Yes","") | Q15: =_xlfn.LET(_xlpm.HighAmt,L15="Yes",_xlpm.MissingPO,M15="Yes",_xlpm.DupInv,O15="Yes",_xlpm.MissingVendor,N15="Yes",_xlpm.WeekendPost,P15="Yes",_xlfn.TEXTJOIN("; ",TRUE,IF(_xlpm.HighAmt,"High-dollar unapproved",""),IF(_xlpm.MissingPO,"Missing PO",""),IF(_xlpm.DupInv,"Duplicate invoice",""),IF(_xlpm.MissingVendor,"Missing vendor ID",""),IF(_xlpm.WeekendPost,"Weekend posting","")))
A16: 15 | B16: INV-100015 | C16: V1015 | D16: Oak Street Maintenance | E16: 46027 | F16: 1682.55 | G16: Yes | H16: A. Brooks | I16: PO-2026-1015 | J16: Information Technology | K16: Net 45 | L16: =IF(AND(F16>Dashboard!$B$3,G16="No"),"Yes","") | M16: =IF(I16="","Yes","") | N16: =IF(C16="","Yes","") | O16: =IF(COUNTIF($B$2:$B$301,B21)>1,"Yes","") | P16: =IF(WEEKDAY(E16,2)>5,"Yes","") | Q16: =_xlfn.LET(_xlpm.HighAmt,L16="Yes",_xlpm.MissingPO,M16="Yes",_xlpm.DupInv,O16="Yes",_xlpm.MissingVendor,N16="Yes",_xlpm.WeekendPost,P16="Yes",_xlfn.TEXTJOIN("; ",TRUE,IF(_xlpm.HighAmt,"High-dollar unapproved",""),IF(_xlpm.MissingPO,"Missing PO",""),IF(_xlpm.DupInv,"Duplicate invoice",""),IF(_xlpm.MissingVendor,"Missing vendor ID",""),IF(_xlpm.WeekendPost,"Weekend posting","")))
A17: 16 | B17: INV-100016 | C17: V1001 | D17: Acme Office Supply | E17: 46078 | F17: 2304.11 | G17: Yes | H17: A. Brooks | I17: PO-2026-1016 | J17: Information Technology | K17: Net 45 | L17: =IF(AND(F17>Dashboard!$B$3,G17="No"),"Yes","") | M17: =IF(I17="","Yes","") | N17: =IF(C17="","Yes","") | O17: =IF(COUNTIF($B$2:$B$301,B22)>1,"Yes","") | P17: =IF(WEEKDAY(E17,2)>5,"Yes","") | Q17: =_xlfn.LET(_xlpm.HighAmt,L17="Yes",_xlpm.MissingPO,M17="Yes",_xlpm.DupInv,O17="Yes",_xlpm.MissingVendor,N17="Yes",_xlpm.WeekendPost,P17="Yes",_xlfn.TEXTJOIN("; ",TRUE,IF(_xlpm.HighAmt,"High-dollar unapproved",""),IF(_xlpm.MissingPO,"Missing PO",""),IF(_xlpm.DupInv,"Duplicate invoice",""),IF(_xlpm.MissingVendor,"Missing vendor ID",""),IF(_xlpm.WeekendPost,"Weekend posting","")))
A18: 17 | B18: INV-100017 | C18: V1008 | D18: Highland Medical Supply | E18: 46195 | F18: 1228.8 | G18: No | I18: PO-2026-1017 | J18: Human Resources | K18: Net 15 | L18: =IF(AND(F18>Dashboard!$B$3,G18="No"),"Yes","") | M18: =IF(I18="","Yes","") | N18: =IF(C18="","Yes","") | O18: =IF(COUNTIF($B$2:$B$301,B23)>1,"Yes","") | P18: =IF(WEEKDAY(E18,2)>5,"Yes","") | Q18: =_xlfn.LET(_xlpm.HighAmt,L18="Yes",_xlpm.MissingPO,M18="Yes",_xlpm.DupInv,O18="Yes",_xlpm.MissingVendor,N18="Yes",_xlpm.WeekendPost,P18="Yes",_xlfn.TEXTJOIN("; ",TRUE,IF(_xlpm.HighAmt,"High-dollar unapproved",""),IF(_xlpm.MissingPO,"Missing PO",""),IF(_xlpm.DupInv,"Duplicate invoice",""),IF(_xlpm.MissingVendor,"Missing vendor ID",""),IF(_xlpm.WeekendPost,"Weekend posting","")))
A19: 18 | B19: INV-100018 | C19: V1008 | D19: Highland Medical Supply | E19: 46132 | F19: 650.55 | G19: Yes | H19: S. Walker | J19: Sales | K19: Due on receipt | L19: =IF(AND(F19>Dashboard!$B$3,G19="No"),"Yes","") | M19: =IF(I19="","Yes","") -> Yes | N19: =IF(C19="","Yes","") | O19: =IF(COUNTIF($B$2:$B$301,B24)>1,"Yes","") | P19: =IF(WEEKDAY(E19,2)>5,"Yes","") | Q19: =_xlfn.LET(_xlpm.HighAmt,L19="Yes",_xlpm.MissingPO,M19="Yes",_xlpm.DupInv,O19="Yes",_xlpm.MissingVendor,N19="Yes",_xlpm.WeekendPost,P19="Yes",_xlfn.TEXTJOIN("; ",TRUE,IF(_xlpm.HighAmt,"High-dollar unapproved",""),IF(_xlpm.MissingPO,"Missing PO",""),IF(_xlpm.DupInv,"Duplicate invoice",""),IF(_xlpm.MissingVendor,"Missing vendor ID",""),IF(_xlpm.WeekendPost,"Weekend posting",""))) -> Missing PO
A20: 19 | B20: INV-100019 | C20: V1011 | D20: Keystone Security | E20: 46167 | F20: 271.15 | G20: Yes | H20: S. Walker | I20: PO-2026-1019 | J20: Information Technology | K20: Net 15 | L20: =IF(AND(F20>Dashboard!$B$3,G20="No"),"Yes","") | M20: =IF(I20="","Yes","") | N20: =IF(C20="","Yes","") | O20: =IF(COUNTIF($B$2:$B$301,B25)>1,"Yes","") | P20: =IF(WEEKDAY(E20,2)>5,"Yes","") | Q20: =_xlfn.LET(_xlpm.HighAmt,L20="Yes",_xlpm.MissingPO,M20="Yes",_xlpm.DupInv,O20="Yes",_xlpm.MissingVendor,N20="Yes",_xlpm.WeekendPost,P20="Yes",_xlfn.TEXTJOIN("; ",TRUE,IF(_xlpm.HighAmt,"High-dollar unapproved",""),IF(_xlpm.MissingPO,"Missing PO",""),IF(_xlpm.DupInv,"Duplicate invoice",""),IF(_xlpm.MissingVendor,"Missing vendor ID",""),IF(_xlpm.WeekendPost,"Weekend posting","")))
A21: 20 | B21: INV-100020 | C21: V1017 | D21: Quality Data Systems | E21: 46062 | F21: 1140.8 | G21: No | I21: PO-2026-1020 | J21: Human Resources | K21: Net 15 | L21: =IF(AND(F21>Dashboard!$B$3,G21="No"),"Yes","") | M21: =IF(I21="","Yes","") | N21: =IF(C21="","Yes","") | O21: =IF(COUNTIF($B$2:$B$301,B26)>1,"Yes","") | P21: =IF(WEEKDAY(E21,2)>5,"Yes","") | Q21: =_xlfn.LET(_xlpm.HighAmt,L21="Yes",_xlpm.MissingPO,M21="Yes",_xlpm.DupInv,O21="Yes",_xlpm.MissingVendor,N21="Yes",_xlpm.WeekendPost,P21="Yes",_xlfn.TEXTJOIN("; ",TRUE,IF(_xlpm.HighAmt,"High-dollar unapproved",""),IF(_xlpm.MissingPO,"Missing PO",""),IF(_xlpm.DupInv,"Duplicate invoice",""),IF(_xlpm.MissingVendor,"Missing vendor ID",""),IF(_xlpm.WeekendPost,"Weekend posting","")))
A22: 21 | B22: INV-100021 | C22: V1010 | D22: Jefferson Office Interiors | E22: 46045 | F22: 539.31 | G22: Yes | H22: J. Ramirez | I22: PO-2026-1021 | J22: Human Resources | K22: Due on receipt | L22: =IF(AND(F22>Dashboard!$B$3,G22="No"),"Yes","") | M22: =IF(I22="","Yes","") | N22: =IF(C22="","Yes","") | O22: =IF(COUNTIF($B$2:$B$301,B27)>1,"Yes","") | P22: =IF(WEEKDAY(E22,2)>5,"Yes","") | Q22: =_xlfn.LET(_xlpm.HighAmt,L22="Yes",_xlpm.MissingPO,M22="Yes",_xlpm.DupInv,O22="Yes",_xlpm.MissingVendor,N22="Yes",_xlpm.WeekendPost,P22="Yes",_xlfn.TEXTJOIN("; ",TRUE,IF(_xlpm.HighAmt,"High-dollar unapproved",""),IF(_xlpm.MissingPO,"Missing PO",""),IF(_xlpm.DupInv,"Duplicate invoice",""),IF(_xlpm.MissingVendor,"Missing vendor ID",""),IF(_xlpm.WeekendPost,"Weekend posting","")))
A23: 22 | B23: INV-100022 | C23: V1007 | D23: Gateway Business Products | E23: 46174 | F23: 1093.19 | G23: Yes | H23: J. Ramirez | I23: PO-2026-1022 | J23: Marketing | K23: Due on receipt | L23: =IF(AND(F23>Dashboard!$B$3,G23="No"),"Yes","") | M23: =IF(I23="","Yes","") | N23: =IF(C23="","Yes","") | O23: =IF(COUNTIF($B$2:$B$301,B28)>1,"Yes","") | P23: =IF(WEEKDAY(E23,2)>5,"Yes","") | Q23: =_xlfn.LET(_xlpm.HighAmt,L23="Yes",_xlpm.MissingPO,M23="Yes",_xlpm.DupInv,O23="Yes",_xlpm.MissingVendor,N23="Yes",_xlpm.WeekendPost,P23="Yes",_xlfn.TEXTJOIN("; ",TRUE,IF(_xlpm.HighAmt,"High-dollar unapproved",""),IF(_xlpm.MissingPO,"Missing PO",""),IF(_xlpm.DupInv,"Duplicate invoice",""),IF(_xlpm.MissingVendor,"Missing vendor ID",""),IF(_xlpm.WeekendPost,"Weekend posting","")))
A24: 23 | B24: INV-100023 | C24: V1013 | D24: Metro Courier Services | E24: 46146 | F24: 429.24 | G24: Yes | H24: S. Walker | I24: PO-2026-1023 | J24: Human Resources | K24: Net 45 | L24: =IF(AND(F24>Dashboard!$B$3,G24="No"),"Yes","") | M24: =IF(I24="","Yes","") | N24: =IF(C24="","Yes","") | O24: =IF(COUNTIF($B$2:$B$301,B29)>1,"Yes","") | P24: =IF(WEEKDAY(E24,2)>5,"Yes","") | Q24: =_xlfn.LET(_xlpm.HighAmt,L24="Yes",_xlpm.MissingPO,M24="Yes",_xlpm.DupInv,O24="Yes",_xlpm.MissingVendor,N24="Yes",_xlpm.WeekendPost,P24="Yes",_xlfn.TEXTJOIN("; ",TRUE,IF(_xlpm.HighAmt,"High-dollar unapproved",""),IF(_xlpm.MissingPO,"Missing PO",""),IF(_xlpm.DupInv,"Duplicate invoice",""),IF(_xlpm.MissingVendor,"Missing vendor ID",""),IF(_xlpm.WeekendPost,"Weekend posting","")))
A25: 24 | B25: INV-100024 | C25: V1013 | D25: Metro Courier Services | E25: 46195 | F25: 378.9 | G25: Yes | H25: E. Carter | I25: PO-2026-1024 | J25: Human Resources | K25: Net 15 | L25: =IF(AND(F25>Dashboard!$B$3,G25="No"),"Yes","") | M25: =IF(I25="","Yes","") | N25: =IF(C25="","Yes","") | O25: =IF(COUNTIF($B$2:$B$301,B30)>1,"Yes","") | P25: =IF(WEEKDAY(E25,2)>5,"Yes","") | Q25: =_xlfn.LET(_xlpm.HighAmt,L25="Yes",_xlpm.MissingPO,M25="Yes",_xlpm.DupInv,O25="Yes",_xlpm.MissingVendor,N25="Yes",_xlpm.WeekendPost,P25="Yes",_xlfn.TEXTJOIN("; ",TRUE,IF(_xlpm.HighAmt,"High-dollar unapproved",""),IF(_xlpm.MissingPO,"Missing PO",""),IF(_xlpm.DupInv,"Duplicate invoice",""),IF(_xlpm.MissingVendor,"Missing vendor ID",""),IF(_xlpm.WeekendPost,"Weekend posting","")))
A26: 25 | B26: INV-100025 | C26: V1004 | D26: Delta Industrial | E26: 46146 | F26: 817.57 | G26: Yes | H26: A. Brooks | I26: PO-2026-1025 | J26: Information Technology | K26: Due on receipt | L26: =IF(AND(F26>Dashboard!$B$3,G26="No"),"Yes","") | M26: =IF(I26="","Yes","") | N26: =IF(C26="","Yes","") | O26: =IF(COUNTIF($B$2:$B$301,B31)>1,"Yes","") | P26: =IF(WEEKDAY(E26,2)>5,"Yes","") | Q26: =_xlfn.LET(_xlpm.HighAmt,L26="Yes",_xlpm.MissingPO,M26="Yes",_xlpm.DupInv,O26="Yes",_xlpm.MissingVendor,N26="Yes",_xlpm.WeekendPost,P26="Yes",_xlfn.TEXTJOIN("; ",TRUE,IF(_xlpm.HighAmt,"High-dollar unapproved",""),IF(_xlpm.MissingPO,"Missing PO",""),IF(_xlpm.DupInv,"Duplicate invoice",""),IF(_xlpm.MissingVendor,"Missing vendor ID",""),IF(_xlpm.WeekendPost,"Weekend posting","")))
A27: 26 | B27: INV-100026 | C27: V1012 | D27: Lakeside Communications | E27: 46077 | F27: 158.19 | G27: Yes | H27: M. Thompson | I27: PO-2026-1026 | J27: Information Technology | K27: Net 45 | L27: =IF(AND(F27>Dashboard!$B$3,G27="No"),"Yes","") | M27: =IF(I27="","Yes","") | N27: =IF(C27="","Yes","") | O27: =IF(COUNTIF($B$2:$B$301,B32)>1,"Yes","") -> Yes | P27: =IF(WEEKDAY(E27,2)>5,"Yes","") | Q27: =_xlfn.LET(_xlpm.HighAmt,L27="Yes",_xlpm.MissingPO,M27="Yes",_xlpm.DupInv,O27="Yes",_xlpm.MissingVendor,N27="Yes",_xlpm.WeekendPost,P27="Yes",_xlfn.TEXTJOIN("; ",TRUE,IF(_xlpm.HighAmt,"High-dollar unapproved",""),IF(_xlpm.MissingPO,"Missing PO",""),IF(_xlpm.DupInv,"Duplicate invoice",""),IF(_xlpm.MissingVendor,"Missing vendor ID",""),IF(_xlpm.WeekendPost,"Weekend posting",""))) -> Duplicate invoice
A28: 27 | B28: INV-100027 | C28: V1013 | D28: Metro Courier Services | E28: 46116 | F28: 1209.66 | G28: Yes | H28: M. Thompson | I28: PO-2026-1027 | J28: Marketing | K28: Net 45 | L28: =IF(AND(F28>Dashboard!$B$3,G28="No"),"Yes","") | M28: =IF(I28="","Yes","") | N28: =IF(C28="","Yes","") | O28: =IF(COUNTIF($B$2:$B$301,B33)>1,"Yes","") -> Yes | P28: =IF(WEEKDAY(E28,2)>5,"Yes","") -> Yes | Q28: =_xlfn.LET(_xlpm.HighAmt,L28="Yes",_xlpm.MissingPO,M28="Yes",_xlpm.DupInv,O28="Yes",_xlpm.MissingVendor,N28="Yes",_xlpm.WeekendPost,P28="Yes",_xlfn.TEXTJOIN("; ",TRUE,IF(_xlpm.HighAmt,"High-dollar unapproved",""),IF(_xlpm.MissingPO,"Missing PO",""),IF(_xlpm.DupInv,"Duplicate invoice",""),IF(_xlpm.MissingVendor,"Missing vendor ID",""),IF(_xlpm.WeekendPost,"Weekend posting",""))) -> Duplicate invoice; Weekend posting
A29: 28 | B29: INV-100028 | C29: V1012 | D29: Lakeside Communications | E29: 46191 | F29: 711.47 | G29: Yes | H29: M. Thompson | I29: PO-2026-1028 | J29: Accounting | K29: Net 15 | L29: =IF(AND(F29>Dashboard!$B$3,G29="No"),"Yes","") | M29: =IF(I29="","Yes","") | N29: =IF(C29="","Yes","") | O29: =IF(COUNTIF($B$2:$B$301,B34)>1,"Yes","") | P29: =IF(WEEKDAY(E29,2)>5,"Yes","") | Q29: =_xlfn.LET(_xlpm.HighAmt,L29="Yes",_xlpm.MissingPO,M29="Yes",_xlpm.DupInv,O29="Yes",_xlpm.MissingVendor,N29="Yes",_xlpm.WeekendPost,P29="Yes",_xlfn.TEXTJOIN("; ",TRUE,IF(_xlpm.HighAmt,"High-dollar unapproved",""),IF(_xlpm.MissingPO,"Missing PO",""),IF(_xlpm.DupInv,"Duplicate invoice",""),IF(_xlpm.MissingVendor,"Missing vendor ID",""),IF(_xlpm.WeekendPost,"Weekend posting","")))
A30: 29 | B30: INV-100029 | C30: V1009 | D30: Ironwood Equipment | E30: 46142 | F30: 1355.82 | G30: Yes | H30: J. Ramirez | I30: PO-2026-1029 | J30: Information Technology | K30: Due on receipt | L30: =IF(AND(F30>Dashboard!$B$3,G30="No"),"Yes","") | M30: =IF(I30="","Yes","") | N30: =IF(C30="","Yes","") | O30: =IF(COUNTIF($B$2:$B$301,B35)>1,"Yes","") | P30: =IF(WEEKDAY(E30,2)>5,"Yes","") | Q30: =_xlfn.LET(_xlpm.HighAmt,L30="Yes",_xlpm.MissingPO,M30="Yes",_xlpm.DupInv,O30="Yes",_xlpm.MissingVendor,N30="Yes",_xlpm.WeekendPost,P30="Yes",_xlfn.TEXTJOIN("; ",TRUE,IF(_xlpm.HighAmt,"High-dollar unapproved",""),IF(_xlpm.MissingPO,"Missing PO",""),IF(_xlpm.DupInv,"Duplicate invoice",""),IF(_xlpm.MissingVendor,"Missing vendor ID",""),IF(_xlpm.WeekendPost,"Weekend posting","")))
A31: 30 | B31: INV-100030 | C31: V1018 | D31: River City Couriers | E31: 46139 | F31: 112.3 | G31: Yes | H31: M. Thompson | I31: PO-2026-1030 | J31: Sales | K31: Net 45 | L31: =IF(AND(F31>Dashboard!$B$3,G31="No"),"Yes","") | M31: =IF(I31="","Yes","") | N31: =IF(C31="","Yes","") | O31: =IF(COUNTIF($B$2:$B$301,B36)>1,"Yes","") | P31: =IF(WEEKDAY(E31,2)>5,"Yes","") | Q31: =_xlfn.LET(_xlpm.HighAmt,L31="Yes",_xlpm.MissingPO,M31="Yes",_xlpm.DupInv,O31="Yes",_xlpm.MissingVendor,N31="Yes",_xlpm.WeekendPost,P31="Yes",_xlfn.TEXTJOIN("; ",TRUE,IF(_xlpm.HighAmt,"High-dollar unapproved",""),IF(_xlpm.MissingPO,"Missing PO",""),IF(_xlpm.DupInv,"Duplicate invoice",""),IF(_xlpm.MissingVendor,"Missing vendor ID",""),IF(_xlpm.WeekendPost,"Weekend posting","")))
A32: 31 | B32: INV-100031 | C32: V1018 | D32: River City Couriers | E32: 46153 | F32: 1893.55 | G32: Yes | H32: M. Thompson | I32: PO-2026-1031 | J32: Marketing | K32: Net 15 | L32: =IF(AND(F32>Dashboard!$B$3,G32="No"),"Yes","") | M32: =IF(I32="","Yes","") | N32: =IF(C32="","Yes","") | O32: =IF(COUNTIF($B$2:$B$301,B37)>1,"Yes","") | P32: =IF(WEEKDAY(E32,2)>5,"Yes","") | Q32: =_xlfn.LET(_xlpm.HighAmt,L32="Yes",_xlpm.MissingPO,M32="Yes",_xlpm.DupInv,O32="Yes",_xlpm.MissingVendor,N32="Yes",_xlpm.WeekendPost,P32="Yes",_xlfn.TEXTJOIN("; ",TRUE,IF(_xlpm.HighAmt,"High-dollar unapproved",""),IF(_xlpm.MissingPO,"Missing PO",""),IF(_xlpm.DupInv,"Duplicate invoice",""),IF(_xlpm.MissingVendor,"Missing vendor ID",""),IF(_xlpm.WeekendPost,"Weekend posting","")))
A33: 32 | B33: INV-100031 | C33: V1003 | D33: Central Printing Services | E33: 46071 | F33: 1904.65 | G33: Yes | H33: M. Thompson | I33: PO-2026-1032 | J33: Human Resources | K33: Net 15 | L33: =IF(AND(F33>Dashboard!$B$3,G33="No"),"Yes","") | M33: =IF(I33="","Yes","") | N33: =IF(C33="","Yes","") | O33: =IF(COUNTIF($B$2:$B$301,B38)>1,"Yes","") | P33: =IF(WEEKDAY(E33,2)>5,"Yes","") | Q33: =_xlfn.LET(_xlpm.HighAmt,L33="Yes",_xlpm.MissingPO,M33="Yes",_xlpm.DupInv,O33="Yes",_xlpm.MissingVendor,N33="Yes",_xlpm.WeekendPost,P33="Yes",_xlfn.TEXTJOIN("; ",TRUE,IF(_xlpm.HighAmt,"High-dollar unapproved",""),IF(_xlpm.MissingPO,"Missing PO",""),IF(_xlpm.DupInv,"Duplicate invoice",""),IF(_xlpm.MissingVendor,"Missing vendor ID",""),IF(_xlpm.WeekendPost,"Weekend posting","")))
... A37: 36 | B37: INV-100036 | C37: V1010 | D37: Jefferson Office Interiors | E37: 46104 | F37: 398.71 | G37: Yes | H37: J. Ramirez | I37: PO-2026-1036 | J37: Accounting | K37: Net 45 | L37: =IF(AND(F37>Dashboard!$B$3,G37="No"),"Yes","") | M37: =IF(I37="","Yes","") | N37: =IF(C37="","Yes","") | O37: =IF(COUNTIF($B$2:$B$301,B42)>1,"Yes","") | P37: =IF(WEEKDAY(E37,2)>5,"Yes","") | Q37: =_xlfn.LET(_xlpm.HighAmt,L37="Yes",_xlpm.MissingPO,M37="Yes",_xlpm.DupInv,O37="Yes",_xlpm.MissingVendor,N37="Yes",_xlpm.WeekendPost,P37="Yes",_xlfn.TEXTJOIN("; ",TRUE,IF(_xlpm.HighAmt,"High-dollar unapproved",""),IF(_xlpm.MissingPO,"Missing PO",""),IF(_xlpm.DupInv,"Duplicate invoice",""),IF(_xlpm.MissingVendor,"Missing vendor ID",""),IF(_xlpm.WeekendPost,"Weekend posting","")))
A38: 37 | B38: INV-100037 | C38: V1009 | D38: Ironwood Equipment | E38: 46051 | F38: 1254.61 | G38: Yes | H38: E. Carter | J38: Operations | K38: Net 45 | L38: =IF(AND(F38>Dashboard!$B$3,G38="No"),"Yes","") | M38: =IF(I38="","Yes","") -> Yes | N38: =IF(C38="","Yes","") | O38: =IF(COUNTIF($B$2:$B$301,B43)>1,"Yes","") | P38: =IF(WEEKDAY(E38,2)>5,"Yes","") | Q38: =_xlfn.LET(_xlpm.HighAmt,L38="Yes",_xlpm.MissingPO,M38="Yes",_xlpm.DupInv,O38="Yes",_xlpm.MissingVendor,N38="Yes",_xlpm.WeekendPost,P38="Yes",_xlfn.TEXTJOIN("; ",TRUE,IF(_xlpm.HighAmt,"High-dollar unapproved",""),IF(_xlpm.MissingPO,"Missing PO",""),IF(_xlpm.DupInv,"Duplicate invoice",""),IF(_xlpm.MissingVendor,"Missing vendor ID",""),IF(_xlpm.WeekendPost,"Weekend posting",""))) -> Missing PO
A39: 38 | B39: INV-100038 | C39: V1011 | D39: Keystone Security | E39: 46055 | F39: 1287.13 | G39: Yes | H39: A. Brooks | I39: PO-2026-1038 | J39: Accounting | K39: Net 30 | L39: =IF(AND(F39>Dashboard!$B$3,G39="No"),"Yes","") | M39: =IF(I39="","Yes","") | N39: =IF(C39="","Yes","") | O39: =IF(COUNTIF($B$2:$B$301,B44)>1,"Yes","") | P39: =IF(WEEKDAY(E39,2)>5,"Yes","") | Q39: =_xlfn.LET(_xlpm.HighAmt,L39="Yes",_xlpm.MissingPO,M39="Yes",_xlpm.DupInv,O39="Yes",_xlpm.MissingVendor,N39="Yes",_xlpm.WeekendPost,P39="Yes",_xlfn.TEXTJOIN("; ",TRUE,IF(_xlpm.HighAmt,"High-dollar unapproved",""),IF(_xlpm.MissingPO,"Missing PO",""),IF(_xlpm.DupInv,"Duplicate invoice",""),IF(_xlpm.MissingVendor,"Missing vendor ID",""),IF(_xlpm.WeekendPost,"Weekend posting","")))
A40: 39 | B40: INV-100039 | C40: V1004 | D40: Delta Industrial | E40: 46038 | F40: 3381.75 | G40: Yes | H40: A. Brooks | I40: PO-2026-1039 | J40: Marketing | K40: Net 45 | L40: =IF(AND(F40>Dashboard!$B$3,G40="No"),"Yes","") | M40: =IF(I40="","Yes","") | N40: =IF(C40="","Yes","") | O40: =IF(COUNTIF($B$2:$B$301,B45)>1,"Yes","") | P40: =IF(WEEKDAY(E40,2)>5,"Yes","") | Q40: =_xlfn.LET(_xlpm.HighAmt,L40="Yes",_xlpm.MissingPO,M40="Yes",_xlpm.DupInv,O40="Yes",_xlpm.MissingVendor,N40="Yes",_xlpm.WeekendPost,P40="Yes",_xlfn.TEXTJOIN("; ",TRUE,IF(_xlpm.HighAmt,"High-dollar unapproved",""),IF(_xlpm.MissingPO,"Missing PO",""),IF(_xlpm.DupInv,"Duplicate invoice",""),IF(_xlpm.MissingVendor,"Missing vendor ID",""),IF(_xlpm.WeekendPost,"Weekend posting","")))
A41: 40 | B41: INV-100040 | C41: V1012 | D41: Lakeside Communications | E41: 46050 | F41: 448.92 | G41: Yes | H41: E. Carter | I41: PO-2026-1040 | J41: Accounting | K41: Net 30 | L41: =IF(AND(F41>Dashboard!$B$3,G41="No"),"Yes","") | M41: =IF(I41="","Yes","") | N41: =IF(C41="","Yes","") | O41: =IF(COUNTIF($B$2:$B$301,B46)>1,"Yes","") | P41: =IF(WEEKDAY(E41,2)>5,"Yes","") | Q41: =_xlfn.LET(_xlpm.HighAmt,L41="Yes",_xlpm.MissingPO,M41="Yes",_xlpm.DupInv,O41="Yes",_xlpm.MissingVendor,N41="Yes",_xlpm.WeekendPost,P41="Yes",_xlfn.TEXTJOIN("; ",TRUE,IF(_xlpm.HighAmt,"High-dollar unapproved",""),IF(_xlpm.MissingPO,"Missing PO",""),IF(_xlpm.DupInv,"Duplicate invoice",""),IF(_xlpm.MissingVendor,"Missing vendor ID",""),IF(_xlpm.WeekendPost,"Weekend posting","")))
A42: 41 | B42: INV-100041 | C42: V1011 | D42: Keystone Security | E42: 46037 | F42: 525.1 | G42: Yes | H42: M. Thompson | I42: PO-2026-1041 | J42: Purchasing | K42: Net 45 | L42: =IF(AND(F42>Dashboard!$B$3,G42="No"),"Yes","") | M42: =IF(I42="","Yes","") | N42: =IF(C42="","Yes","") | O42: =IF(COUNTIF($B$2:$B$301,B47)>1,"Yes","") | P42: =IF(WEEKDAY(E42,2)>5,"Yes","") | Q42: =_xlfn.LET(_xlpm.HighAmt,L42="Yes",_xlpm.MissingPO,M42="Yes",_xlpm.DupInv,O42="Yes",_xlpm.MissingVendor,N42="Yes",_xlpm.WeekendPost,P42="Yes",_xlfn.TEXTJOIN("; ",TRUE,IF(_xlpm.HighAmt,"High-dollar unapproved",""),IF(_xlpm.MissingPO,"Missing PO",""),IF(_xlpm.DupInv,"Duplicate invoice",""),IF(_xlpm.MissingVendor,"Missing vendor ID",""),IF(_xlpm.WeekendPost,"Weekend posting","")))
A43: 42 | B43: INV-100042 | C43: V1011 | D43: Keystone Security | E43: 46197 | F43: 581.58 | G43: Yes | H43: S. Walker | I43: PO-2026-1042 | J43: Facilities | K43: Net 15 | L43: =IF(AND(F43>Dashboard!$B$3,G43="No"),"Yes","") | M43: =IF(I43="","Yes","") | N43: =IF(C43="","Yes","") | O43: =IF(COUNTIF($B$2:$B$301,B48)>1,"Yes","") | P43: =IF(WEEKDAY(E43,2)>5,"Yes","") | Q43: =_xlfn.LET(_xlpm.HighAmt,L43="Yes",_xlpm.MissingPO,M43="Yes",_xlpm.DupInv,O43="Yes",_xlpm.MissingVendor,N43="Yes",_xlpm.WeekendPost,P43="Yes",_xlfn.TEXTJOIN("; ",TRUE,IF(_xlpm.HighAmt,"High-dollar unapproved",""),IF(_xlpm.MissingPO,"Missing PO",""),IF(_xlpm.DupInv,"Duplicate invoice",""),IF(_xlpm.MissingVendor,"Missing vendor ID",""),IF(_xlpm.WeekendPost,"Weekend posting","")))
...

Sheet Exception Report
A1: Dynamic AP Exception Report
A3: The formula in cell A7 returns only transactions containing at least one exception.
A6: Record ID | B6: Invoice Number | C6: Vendor ID | D6: Vendor | E6: Invoice Date | F6: Amount | G6: Approved | H6: Approver | I6: Purchase Order | J6: Department | K6: Payment Terms | L6: High-Dollar Unapproved | M6: Missing PO | N6: Missing Vendor ID | O6: Duplicate Invoice | P6: Weekend Posting | Q6: Exception Status
A7: {=_xlfn._xlws.FILTER('AP Export'!A2:Q301,'AP Export'!Q2:Q301<>"","No exceptions found")} -> 3 | B7: INV-100003 | C7: V1013 | D7: Metro Courier Services | E7: 46060 | F7: 730.62 | G7: Yes | H7: E. Carter | I7: PO-2026-1003 | J7: Information Technology | K7: Net 30 | P7: Yes | Q7: Weekend posting
A8: 5 | B8: INV-100005 | C8: V1014 | D8: Nashville Paper Company | E8: 46156 | F8: 3335.66 | G8: Yes | H8: S. Walker | I8: 0 | J8: Facilities | K8: Net 30 | M8: Yes | Q8: Missing PO
A9: 9 | B9: INV-100009 | C9: 0 | D9: Pioneer Packaging | E9: 46064 | F9: 7319.92 | G9: No | H9: 0 | I9: PO-2026-1009 | J9: Information Technology | K9: Net 30 | N9: Yes | Q9: Missing vendor ID
A10: 12 | B10: INV-100012 | C10: V1015 | D10: Oak Street Maintenance | E10: 46104 | F10: 26357.43 | G10: No | H10: 0 | I10: PO-2026-1012 | J10: Accounting | K10: Due on receipt | L10: Yes | Q10: High-dollar unapproved
A11: 18 | B11: INV-100018 | C11: V1008 | D11: Highland Medical Supply | E11: 46132 | F11: 650.55 | G11: Yes | H11: S. Walker | I11: 0 | J11: Sales | K11: Due on receipt | M11: Yes | Q11: Missing PO
A12: 26 | B12: INV-100026 | C12: V1012 | D12: Lakeside Communications | E12: 46077 | F12: 158.19 | G12: Yes | H12: M. Thompson | I12: PO-2026-1026 | J12: Information Technology | K12: Net 45 | O12: Yes | Q12: Duplicate invoice
A13: 27 | B13: INV-100027 | C13: V1013 | D13: Metro Courier Services | E13: 46116 | F13: 1209.66 | G13: Yes | H13: M. Thompson | I13: PO-2026-1027 | J13: Marketing | K13: Net 45 | O13: Yes | P13: Yes | Q13: Duplicate invoice; Weekend posting
A14: 37 | B14: INV-100037 | C14: V1009 | D14: Ironwood Equipment | E14: 46051 | F14: 1254.61 | G14: Yes | H14: E. Carter | I14: 0 | J14: Operations | K14: Net 45 | M14: Yes | Q14: Missing PO
A15: 44 | B15: INV-100044 | C15: 0 | D15: Nashville Paper Company | E15: 46062 | F15: 4025.83 | G15: Yes | H15: M. Thompson | I15: PO-2026-1044 | J15: Facilities | K15: Net 45 | N15: Yes | Q15: Missing vendor ID
A16: 47 | B16: INV-100047 | C16: V1020 | D16: Volunteer State Telecom | E16: 46100 | F16: 12306.73 | G16: No | H16: 0 | I16: PO-2026-1047 | J16: Information Technology | K16: Due on receipt | L16: Yes | Q16: High-dollar unapproved
A17: 49 | B17: INV-100049 | C17: V1018 | D17: River City Couriers | E17: 46151 | F17: 1623.79 | G17: Yes | H17: E. Carter | I17: PO-2026-1049 | J17: Information Technology | K17: Net 45 | P17: Yes | Q17: Weekend posting
A18: 66 | B18: INV-100066 | C18: 0 | D18: Central Printing Services | E18: 46132 | F18: 1563.05 | G18: Yes | H18: J. Ramirez | I18: 0 | J18: Facilities | K18: Net 15 | M18: Yes | N18: Yes | Q18: Missing PO; Missing vendor ID
A19: 78 | B19: INV-100078 | C19: V1012 | D19: Lakeside Communications | E19: 46109 | F19: 20572.31 | G19: No | H19: 0 | I19: 0 | J19: Accounting | K19: Net 30 | L19: Yes | M19: Yes | O19: Yes | P19: Yes | Q19: High-dollar unapproved; Missing PO; Duplicate invoice; Weekend posting
A20: 79 | B20: INV-100079 | C20: V1008 | D20: Highland Medical Supply | E20: 46062 | F20: 275.02 | G20: Yes | H20: J. Ramirez | I20: PO-2026-1079 | J20: Purchasing | K20: Due on receipt | O20: Yes | Q20: Duplicate invoice
A21: 95 | B21: INV-100095 | C21: 0 | D21: Pioneer Packaging | E21: 46170 | F21: 524.58 | G21: Yes | H21: A. Brooks | I21: PO-2026-1095 | J21: Operations | K21: Net 15 | N21: Yes | Q21: Missing vendor ID
A22: 101 | B22: INV-100101 | C22: V1017 | D22: Quality Data Systems | E22: 46202 | F22: 1963.66 | G22: Yes | H22: S. Walker | I22: 0 | J22: Sales | K22: Due on receipt | M22: Yes | Q22: Missing PO
A23: 102 | B23: INV-100102 | C23: V1012 | D23: Lakeside Communications | E23: 46200 | F23: 1942.1 | G23: No | H23: 0 | I23: PO-2026-1102 | J23: Marketing | K23: Net 30 | P23: Yes | Q23: Weekend posting
A24: 116 | B24: INV-100116 | C24: V1006 | D24: Franklin Facility Services | E24: 46111 | F24: 17014.21 | G24: No | H24: 0 | I24: PO-2026-1116 | J24: Operations | K24: Net 15 | L24: Yes | Q24: High-dollar unapproved
A25: 126 | B25: INV-100126 | C25: V1007 | D25: Gateway Business Products | E25: 46172 | F25: 534.19 | G25: Yes | H25: A. Brooks | I25: PO-2026-1126 | J25: Purchasing | K25: Net 15 | P25: Yes | Q25: Weekend posting
A26: 129 | B26: INV-100129 | C26: V1017 | D26: Quality Data Systems | E26: 46115 | F26: 509.53 | G26: No | H26: 0 | I26: 0 | J26: Accounting | K26: Net 45 | M26: Yes | Q26: Missing PO
A27: 137 | B27: INV-100137 | C27: 0 | D27: Oak Street Maintenance | E27: 46147 | F27: 456.82 | G27: Yes | H27: M. Thompson | I27: PO-2026-1137 | J27: Information Technology | K27: Net 15 | N27: Yes | Q27: Missing vendor ID
A28: 140 | B28: INV-100140 | C28: V1014 | D28: Nashville Paper Company | E28: 46197 | F28: 1037.62 | G28: Yes | H28: E. Carter | I28: PO-2026-1140 | J28: Sales | K28: Due on receipt | O28: Yes | Q28: Duplicate invoice
A29: 141 | B29: INV-100141 | C29: V1014 | D29: Nashville Paper Company | E29: 46118 | F29: 1283.8 | G29: Yes | H29: J. Ramirez | I29: PO-2026-1141 | J29: Facilities | K29: Net 30 | O29: Yes | Q29: Duplicate invoice
A30: 151 | B30: INV-100151 | C30: V1007 | D30: Gateway Business Products | E30: 46130 | F30: 2596.87 | G30: Yes | H30: A. Brooks | I30: PO-2026-1151 | J30: Facilities | K30: Net 15 | P30: Yes | Q30: Weekend posting
A31: 155 | B31: INV-100155 | C31: V1018 | D31: River City Couriers | E31: 46167 | F31: 674.58 | G31: Yes | H31: E. Carter | I31: 0 | J31: Accounting | K31: Net 15 | M31: Yes | Q31: Missing PO
A32: 164 | B32: INV-100164 | C32: V1002 | D32: Blue Ridge Technology | E32: 46181 | F32: 16249.61 | G32: No | H32: 0 | I32: PO-2026-1164 | J32: Purchasing | K32: Due on receipt | L32: Yes | Q32: High-dollar unapproved
A33: 177 | B33: INV-100177 | C33: V1009 | D33: Ironwood Equipment | E33: 46067 | F33: 436.14 | G33: Yes | H33: J. Ramirez | I33: PO-2026-1177 | J33: Information Technology | K33: Net 30 | P33: Yes | Q33: Weekend posting
A34: 178 | B34: INV-100178 | C34: 0 | D34: Volunteer State Telecom | E34: 46160 | F34: 396.77 | G34: Yes | H34: J. Ramirez | I34: PO-2026-1178 | J34: Marketing | K34: Net 15 | N34: Yes | Q34: Missing vendor ID
A35: 184 | B35: INV-100184 | C35: V1005 | D35: Evergreen Consulting | E35: 46161 | F35: 756.82 | G35: Yes | H35: M. Thompson | I35: 0 | J35: Information Technology | K35: Due on receipt | M35: Yes | Q35: Missing PO
A36: 203 | B36: INV-100203 | C36: V1013 | D36: Metro Courier Services | E36: 46039 | F36: 16465.93 | G36: No | H36: 0 | I36: 0 | J36: Operations | K36: Due on receipt | L36: Yes | M36: Yes | P36: Yes | Q36: High-dollar unapproved; Missing PO; Weekend posting
A37: 205 | B37: INV-100205 | C37: V1018 | D37: River City Couriers | E37: 46069 | F37: 617.25 | G37: Yes | H37: J. Ramirez | I37: PO-2026-1205 | J37: Purchasing | K37: Due on receipt | O37: Yes | Q37: Duplicate invoice
A38: 206 | B38: INV-100206 | C38: V1009 | D38: Ironwood Equipment | E38: 46202 | F38: 1140.5 | G38: Yes | H38: S. Walker | I38: PO-2026-1206 | J38: Accounting | K38: Due on receipt | O38: Yes | Q38: Duplicate invoice
A39: 221 | B39: INV-100221 | C39: 0 | D39: Acme Office Supply | E39: 46139 | F39: 374.29 | G39: Yes | H39: S. Walker | I39: 0 | J39: Purchasing | K39: Net 45 | M39: Yes | N39: Yes | Q39: Missing PO; Missing vendor ID
A40: 229 | B40: INV-100229 | C40: V1005 | D40: Evergreen Consulting | E40: 46186 | F40: 867.77 | G40: Yes | H40: A. Brooks | I40: PO-2026-1229 | J40: Purchasing | K40: Net 45 | P40: Yes | Q40: Weekend posting
A41: 244 | B41: INV-100244 | C41: V1018 | D41: River City Couriers | E41: 46070 | F41: 21470.42 | G41: No | H41: 0 | I41: PO-2026-1244 | J41: Marketing | K41: Net 30 | L41: Yes | Q41: High-dollar unapproved
A42: 247 | B42: INV-100247 | C42: V1001 | D42: Acme Office Supply | E42: 46085 | F42: 287.42 | G42: Yes | H42: A. Brooks | I42: 0 | J42: Sales | K42: Due on receipt | M42: Yes | Q42: Missing PO
A43: 252 | B43: INV-100252 | C43: V1003 | D43: Central Printing Services | E43: 46144 | F43: 954.19 | G43: Yes | H43: E. Carter | I43: PO-2026-1252 | J43: Information Technology | K43: Net 45 | P43: Yes | Q43: Weekend posting
...

Sheet Dashboard
A1: Accounts Payable Exception Dashboard
A3: High-dollar threshold | B3: 10000 | D3: Change cell B3 to adjust the high-dollar test.
A5: Metric | B5: Count
A6: Total transactions | B6: =COUNTA('AP Export'!A2:A301) -> 300
A7: Transactions with exceptions | B7: =SUMPRODUCT(--('AP Export'!Q2:Q301<>"")) -> 45
A8: High-dollar unapproved | B8: =COUNTIF('AP Export'!L2:L301,"Yes") -> 8
A9: Missing PO | B9: =COUNTIF('AP Export'!M2:M301,"Yes") -> 15
A10: Duplicate invoice | B10: =COUNTIF('AP Export'!O2:O301,"Yes") -> 10
A11: Missing vendor ID | B11: =COUNTIF('AP Export'!N2:N301,"Yes") -> 9
A12: Weekend posting | B12: =COUNTIF('AP Export'!P2:P301,"Yes") -> 12
