Workbook

Sheet AP Export
A1: Record ID | B1: Invoice Number | C1: Vendor ID | D1: Vendor | E1: Invoice Date | F1: Amount | G1: Approved | H1: Approver | I1: Purchase Order | J1: Department | K1: Payment Terms | L1: High-Dollar Unapproved | M1: Missing PO | N1: Missing Vendor ID | O1: Duplicate Invoice | P1: Weekend Posting | Q1: Exception Status
A2: 1 | B2: INV-100001 | C2: V1011 | D2: Keystone Security | E2: 46038 | F2: 1934.6 | G2: Yes | H2: A. Brooks | I2: PO-2026-1001 | J2: Operations | K2: Net 15 | L2: =IF(AND(F2>Dashboard!$B$3,G2="No"),"Yes","") | M2: =IF(I2="","Yes","") | N2: =IF(C2="","Yes","") | O2: =IF(COUNTIF($B$2:$B$301,B7)>1,"Yes","") | P2: =IF(WEEKDAY(E2,2)>5,"Yes","") | Q2: =_xlfn.LET(_xlpm.HighAmt,L2="Yes",_xlpm.MissingPO,M2="Yes",_xlpm.DupInv,O2="Yes",_xlpm.MissingVendor,N2="Yes",_xlpm.WeekendPost,P2="Yes",_xlfn.TEXTJOIN("; ",TRUE,IF(_xlpm.HighAmt,"High-dollar unapproved",""),IF(_xlpm.MissingPO,"Missing PO",""),IF(_xlpm.DupInv,"Duplicate invoice",""),IF(_xlpm.MissingVendor,"Missing vendor ID",""),IF(_xlpm.WeekendPost,"Weekend posting","")))
A3: 2 | B3: INV-100002 | C3: V1006 | D3: Franklin Facility Services | E3: 46140 | F3: 3676.26 | G3: No | I3: PO-2026-1002 | J3: Sales | K3: Net 15 | L3: =IF(AND(F3>Dashboard!$B$3,G3="No"),"Yes","") | M3: =IF(I3="","Yes","") | N3: =IF(C3="","Yes","") | O3: =IF(COUNTIF($B$2:$B$301,B8)>1,"Yes","") | P3: =IF(WEEKDAY(E3,2)>5,"Yes","") | Q3: =_xlfn.LET(_xlpm.HighAmt,L3="Yes",_xlpm.MissingPO,M3="Yes",_xlpm.DupInv,O3="Yes",_xlpm.MissingVendor,N3="Yes",_xlpm.WeekendPost,P3="Yes",_xlfn.TEXTJOIN("; ",TRUE,IF(_xlpm.HighAmt,"High-dollar unapproved",""),IF(_xlpm.MissingPO,"Missing PO",""),IF(_xlpm.DupInv,"Duplicate invoice",""),IF(_xlpm.MissingVendor,"Missing vendor ID",""),IF(_xlpm.WeekendPost,"Weekend posting","")))
A4: 3 | B4: INV-100003 | C4: V1013 | D4: Metro Courier Services | E4: 46060 | F4: 730.62 | G4: Yes | H4: E. Carter | I4: PO-2026-1003 | J4: Information Technology | K4: Net 30 | L4: =IF(AND(F4>Dashboard!$B$3,G4="No"),"Yes","") | M4: =IF(I4="","Yes","") | N4: =IF(C4="","Yes","") | O4: =IF(COUNTIF($B$2:$B$301,B9)>1,"Yes","") | P4: =IF(WEEKDAY(E4,2)>5,"Yes","") -> Yes | Q4: =_xlfn.LET(_xlpm.HighAmt,L4="Yes",_xlpm.MissingPO,M4="Yes",_xlpm.DupInv,O4="Yes",_xlpm.MissingVendor,N4="Yes",_xlpm.WeekendPost,P4="Yes",_xlfn.TEXTJOIN("; ",TRUE,IF(_xlpm.HighAmt,"High-dollar unapproved",""),IF(_xlpm.MissingPO,"Missing PO",""),IF(_xlpm.DupInv,"Duplicate invoice",""),IF(_xlpm.MissingVendor,"Missing vendor ID",""),IF(_xlpm.WeekendPost,"Weekend posting",""))) -> Weekend posting
A5: 4 | B5: INV-100004 | C5: V1005 | D5: Evergreen Consulting | E5: 46034 | F5: 310.34 | G5: Yes | H5: J. Ramirez | I5: PO-2026-1004 | J5: Information Technology | K5: Net 45 | L5: =IF(AND(F5>Dashboard!$B$3,G5="No"),"Yes","") | M5: =IF(I5="","Yes","") | N5: =IF(C5="","Yes","") | O5: =IF(COUNTIF($B$2:$B$301,B10)>1,"Yes","") | P5: =IF(WEEKDAY(E5,2)>5,"Yes","") | Q5: =_xlfn.LET(_xlpm.HighAmt,L5="Yes",_xlpm.MissingPO,M5="Yes",_xlpm.DupInv,O5="Yes",_xlpm.MissingVendor,N5="Yes",_xlpm.WeekendPost,P5="Yes",_xlfn.TEXTJOIN("; ",TRUE,IF(_xlpm.HighAmt,"High-dollar unapproved",""),IF(_xlpm.MissingPO,"Missing PO",""),IF(_xlpm.DupInv,"Duplicate invoice",""),IF(_xlpm.MissingVendor,"Missing vendor ID",""),IF(_xlpm.WeekendPost,"Weekend posting","")))
A6: 5 | B6: INV-100005 | C6: V1014 | D6: Nashville Paper Company | E6: 46156 | F6: 3335.66 | G6: Yes | H6: S. Walker | J6: Facilities | K6: Net 30 | L6: =IF(AND(F6>Dashboard!$B$3,G6="No"),"Yes","") | M6: =IF(I6="","Yes","") -> Yes | N6: =IF(C6="","Yes","") | O6: =IF(COUNTIF($B$2:$B$301,B11)>1,"Yes","") | P6: =IF(WEEKDAY(E6,2)>5,"Yes","") | Q6: =_xlfn.LET(_xlpm.HighAmt,L6="Yes",_xlpm.MissingPO,M6="Yes",_xlpm.DupInv,O6="Yes",_xlpm.MissingVendor,N6="Yes",_xlpm.WeekendPost,P6="Yes",_xlfn.TEXTJOIN("; ",TRUE,IF(_xlpm.HighAmt,"High-dollar unapproved",""),IF(_xlpm.MissingPO,"Missing PO",""),IF(_xlpm.DupInv,"Duplicate invoice",""),IF(_xlpm.MissingVendor,"Missing vendor ID",""),IF(_xlpm.WeekendPost,"Weekend posting",""))) -> Missing PO
A7: 6 | B7: INV-100006 | C7: V1005 | D7: Evergreen Consulting | E7: 46097 | F7: 358.23 | G7: Yes | H7: A. Brooks | I7: PO-2026-1006 | J7: Purchasing | K7: Net 30 | L7: =IF(AND(F7>Dashboard!$B$3,G7="No"),"Yes","") | M7: =IF(I7="","Yes","") | N7: =IF(C7="","Yes","") | O7: =IF(COUNTIF($B$2:$B$301,B12)>1,"Yes","") | P7: =IF(WEEKDAY(E7,2)>5,"Yes","") | Q7: =_xlfn.LET(_xlpm.HighAmt,L7="Yes",_xlpm.MissingPO,M7="Yes",_xlpm.DupInv,O7="Yes",_xlpm.MissingVendor,N7="Yes",_xlpm.WeekendPost,P7="Yes",_xlfn.TEXTJOIN("; ",TRUE,IF(_xlpm.HighAmt,"High-dollar unapproved",""),IF(_xlpm.MissingPO,"Missing PO",""),IF(_xlpm.DupInv,"Duplicate invoice",""),IF(_xlpm.MissingVendor,"Missing vendor ID",""),IF(_xlpm.WeekendPost,"Weekend posting","")))
A8: 7 | B8: INV-100007 | C8: V1018 | D8: River City Couriers | E8: 46197 | F8: 2789.3 | G8: No | I8: PO-2026-1007 | J8: Human Resources | K8: Due on receipt | L8: =IF(AND(F8>Dashboard!$B$3,G8="No"),"Yes","") | M8: =IF(I8="","Yes","") | N8: =IF(C8="","Yes","") | O8: =IF(COUNTIF($B$2:$B$301,B13)>1,"Yes","") | P8: =IF(WEEKDAY(E8,2)>5,"Yes","") | Q8: =_xlfn.LET(_xlpm.HighAmt,L8="Yes",_xlpm.MissingPO,M8="Yes",_xlpm.DupInv,O8="Yes",_xlpm.MissingVendor,N8="Yes",_xlpm.WeekendPost,P8="Yes",_xlfn.TEXTJOIN("; ",TRUE,IF(_xlpm.HighAmt,"High-dollar unapproved",""),IF(_xlpm.MissingPO,"Missing PO",""),IF(_xlpm.DupInv,"Duplicate invoice",""),IF(_xlpm.MissingVendor,"Missing vendor ID",""),IF(_xlpm.WeekendPost,"Weekend posting","")))
A9: 8 | B9: INV-100008 | C9: V1010 | D9: Jefferson Office Interiors | E9: 46027 | F9: 2015.64 | G9: Yes | H9: J. Ramirez | I9: PO-2026-1008 | J9: Marketing | K9: Net 15 | L9: =IF(AND(F9>Dashboard!$B$3,G9="No"),"Yes","") | M9: =IF(I9="","Yes","") | N9: =IF(C9="","Yes","") | O9: =IF(COUNTIF($B$2:$B$301,B14)>1,"Yes","") | P9: =IF(WEEKDAY(E9,2)>5,"Yes","") | Q9: =_xlfn.LET(_xlpm.HighAmt,L9="Yes",_xlpm.MissingPO,M9="Yes",_xlpm.DupInv,O9="Yes",_xlpm.MissingVendor,N9="Yes",_xlpm.WeekendPost,P9="Yes",_xlfn.TEXTJOIN("; ",TRUE,IF(_xlpm.HighAmt,"High-dollar unapproved",""),IF(_xlpm.MissingPO,"Missing PO",""),IF(_xlpm.DupInv,"Duplicate invoice",""),IF(_xlpm.MissingVendor,"Missing vendor ID",""),IF(_xlpm.WeekendPost,"Weekend posting","")))
A10: 9 | B10: INV-100009 | D10: Pioneer Packaging | E10: 46064 | F10: 7319.92 | G10: No | I10: PO-2026-1009 | J10: Information Technology | K10: Net 30 | L10: =IF(AND(F10>Dashboard!$B$3,G10="No"),"Yes","") | M10: =IF(I10="","Yes","") | N10: =IF(C10="","Yes","") -> Yes | O10: =IF(COUNTIF($B$2:$B$301,B15)>1,"Yes","") | P10: =IF(WEEKDAY(E10,2)>5,"Yes","") | Q10: =_xlfn.LET(_xlpm.HighAmt,L10="Yes",_xlpm.MissingPO,M10="Yes",_xlpm.DupInv,O10="Yes",_xlpm.MissingVendor,N10="Yes",_xlpm.WeekendPost,P10="Yes",_xlfn.TEXTJOIN("; ",TRUE,IF(_xlpm.HighAmt,"High-dollar unapproved",""),IF(_xlpm.MissingPO,"Missing PO",""),IF(_xlpm.DupInv,"Duplicate invoice",""),IF(_xlpm.MissingVendor,"Missing vendor ID",""),IF(_xlpm.WeekendPost,"Weekend posting",""))) -> Missing vendor ID
A11: 10 | B11: INV-100010 | C11: V1019 | D11: Summit Professional Services | E11: 46153 | F11: 628.46 | G11: Yes | H11: S. Walker | I11: PO-2026-1010 | J11: Facilities | K11: Net 30 | L11: =IF(AND(F11>Dashboard!$B$3,G11="No"),"Yes","") | M11: =IF(I11="","Yes","") | N11: =IF(C11="","Yes","") | O11: =IF(COUNTIF($B$2:$B$301,B16)>1,"Yes","") | P11: =IF(WEEKDAY(E11,2)>5,"Yes","") | Q11: =_xlfn.LET(_xlpm.HighAmt,L11="Yes",_xlpm.MissingPO,M11="Yes",_xlpm.DupInv,O11="Yes",_xlpm.MissingVendor,N11="Yes",_xlpm.WeekendPost,P11="Yes",_xlfn.TEXTJOIN("; ",TRUE,IF(_xlpm.HighAmt,"High-dollar unapproved",""),IF(_xlpm.MissingPO,"Missing PO",""),IF(_xlpm.DupInv,"Duplicate invoice",""),IF(_xlpm.MissingVendor,"Missing vendor ID",""),IF(_xlpm.WeekendPost,"Weekend posting","")))
A12: 11 | B12: INV-100011 | C12: V1008 | D12: Highland Medical Supply | E12: 46098 | F12: 212.48 | G12: Yes | H12: M. Thompson | I12: PO-2026-1011 | J12: Operations | K12: Net 15 | L12: =IF(AND(F12>Dashboard!$B$3,G12="No"),"Yes","") | M12: =IF(I12="","Yes","") | N12: =IF(C12="","Yes","") | O12: =IF(COUNTIF($B$2:$B$301,B17)>1,"Yes","") | P12: =IF(WEEKDAY(E12,2)>5,"Yes","") | Q12: =_xlfn.LET(_xlpm.HighAmt,L12="Yes",_xlpm.MissingPO,M12="Yes",_xlpm.DupInv,O12="Yes",_xlpm.MissingVendor,N12="Yes",_xlpm.WeekendPost,P12="Yes",_xlfn.TEXTJOIN("; ",TRUE,IF(_xlpm.HighAmt,"High-dollar unapproved",""),IF(_xlpm.MissingPO,"Missing PO",""),IF(_xlpm.DupInv,"Duplicate invoice",""),IF(_xlpm.MissingVendor,"Missing vendor ID",""),IF(_xlpm.WeekendPost,"Weekend posting","")))
A13: 12 | B13: INV-100012 | C13: V1015 | D13: Oak Street Maintenance | E13: 46104 | F13: 26357.43 | G13: No | I13: PO-2026-1012 | J13: Accounting | K13: Due on receipt | L13: =IF(AND(F13>Dashboard!$B$3,G13="No"),"Yes","") -> Yes | M13: =IF(I13="","Yes","") | N13: =IF(C13="","Yes","") | O13: =IF(COUNTIF($B$2:$B$301,B18)>1,"Yes","") | P13: =IF(WEEKDAY(E13,2)>5,"Yes","") | Q13: =_xlfn.LET(_xlpm.HighAmt,L13="Yes",_xlpm.MissingPO,M13="Yes",_xlpm.DupInv,O13="Yes",_xlpm.MissingVendor,N13="Yes",_xlpm.WeekendPost,P13="Yes",_xlfn.TEXTJOIN("; ",TRUE,IF(_xlpm.HighAmt,"High-dollar unapproved",""),IF(_xlpm.MissingPO,"Missing PO",""),IF(_xlpm.DupInv,"Duplicate invoice",""),IF(_xlpm.MissingVendor,"Missing vendor ID",""),IF(_xlpm.WeekendPost,"Weekend posting",""))) -> High-dollar unapproved
A14: 13 | B14: INV-100013 | C14: V1018 | D14: River City Couriers | E14: 46161 | F14: 3964.78 | G14: No | I14: PO-2026-1013 | J14: Purchasing | K14: Net 30 | L14: =IF(AND(F14>Dashboard!$B$3,G14="No"),"Yes","") | M14: =IF(I14="","Yes","") | N14: =IF(C14="","Yes","") | O14: =IF(COUNTIF($B$2:$B$301,B19)>1,"Yes","") | P14: =IF(WEEKDAY(E14,2)>5,"Yes","") | Q14: =_xlfn.LET(_xlpm.HighAmt,L14="Yes",_xlpm.MissingPO,M14="Yes",_xlpm.DupInv,O14="Yes",_xlpm.MissingVendor,N14="Yes",_xlpm.WeekendPost,P14="Yes",_xlfn.TEXTJOIN("; ",TRUE,IF(_xlpm.HighAmt,"High-dollar unapproved",""),IF(_xlpm.MissingPO,"Missing PO",""),IF(_xlpm.DupInv,"Duplicate invoice",""),IF(_xlpm.MissingVendor,"Missing vendor ID",""),IF(_xlpm.WeekendPost,"Weekend posting","")))
A15: 14 | B15: INV-100014 | C15: V1018 | D15: River City Couriers | E15: 46132 | F15: 2025.04 | G15: Yes | H15: S. Walker | I15: PO-2026-1014 | J15: Sales | K15: Net 30 | L15: =IF(AND(F15>Dashboard!$B$3,G15="No"),"Yes","") | M15: =IF(I15="","Yes","") | N15: =IF(C15="","Yes","") | O15: =IF(COUNTIF($B$2:$B$301,B20)>1,"Yes","") | P15: =IF(WEEKDAY(E15,2)>5,"Yes","") | Q15: =_xlfn.LET(_xlpm.HighAmt,L15="Yes",_xlpm.MissingPO,M15="Yes",_xlpm.DupInv,O15="Yes",_xlpm.MissingVendor,N15="Yes",_xlpm.WeekendPost,P15="Yes",_xlfn.TEXTJOIN("; ",TRUE,IF(_xlpm.HighAmt,"High-dollar unapproved",""),IF(_xlpm.MissingPO,"Missing PO",""),IF(_xlpm.DupInv,"Duplicate invoice",""),IF(_xlpm.MissingVendor,"Missing vendor ID",""),IF(_xlpm.WeekendPost,"Weekend posting","")))
A16: 15 | B16: INV-100015 | C16: V1015 | D16: Oak Street Maintenance | E16: 46027 | F16: 1682.55 | G16: Yes | H16: A. Brooks | I16: PO-2026-1015 | J16: Information Technology | K16: Net 45 | L16: =IF(AND(F16>Dashboard!$B$3,G16="No"),"Yes","") | M16: =IF(I16="","Yes","") | N16: =IF(C16="","Yes","") | O16: =IF(COUNTIF($B$2:$B$301,B21)>1,"Yes","") | P16: =IF(WEEKDAY(E16,2)>5,"Yes","") | Q16: =_xlfn.LET(_xlpm.HighAmt,L16="Yes",_xlpm.MissingPO,M16="Yes",_xlpm.DupInv,O16="Yes",_xlpm.MissingVendor,N16="Yes",_xlpm.WeekendPost,P16="Yes",_xlfn.TEXTJOIN("; ",TRUE,IF(_xlpm.HighAmt,"High-dollar unapproved",""),IF(_xlpm.MissingPO,"Missing PO",""),IF(_xlpm.DupInv,"Duplicate invoice",""),IF(_xlpm.MissingVendor,"Missing vendor ID",""),IF(_xlpm.WeekendPost,"Weekend posting","")))
A17: 16 | B17: INV-100016 | C17: V1001 | D17: Acme Office Supply | E17: 46078 | F17: 2304.11 | G17: Yes | H17: A. Brooks | I17: PO-2026-1016 | J17: Information Technology | K17: Net 45 | L17: =IF(AND(F17>Dashboard!$B$3,G17="No"),"Yes","") | M17: =IF(I17="","Yes","") | N17: =IF(C17="","Yes","") | O17: =IF(COUNTIF($B$2:$B$301,B22)>1,"Yes","") | P17: =IF(WEEKDAY(E17,2)>5,"Yes","") | Q17: =_xlfn.LET(_xlpm.HighAmt,L17="Yes",_xlpm.MissingPO,M17="Yes",_xlpm.DupInv,O17="Yes",_xlpm.MissingVendor,N17="Yes",_xlpm.WeekendPost,P17="Yes",_xlfn.TEXTJOIN("; ",TRUE,IF(_xlpm.HighAmt,"High-dollar unapproved",""),IF(_xlpm.MissingPO,"Missing PO",""),IF(_xlpm.DupInv,"Duplicate invoice",""),IF(_xlpm.MissingVendor,"Missing vendor ID",""),IF(_xlpm.WeekendPost,"Weekend posting","")))
A18: 17 | B18: INV-100017 | C18: V1008 | D18: Highland Medical Supply | E18: 46195 | F18: 1228.8 | G18: No | I18: PO-2026-1017 | J18: Human Resources | K18: Net 15 | L18: =IF(AND(F18>Dashboard!$B$3,G18="No"),"Yes","") | M18: =IF(I18="","Yes","") | N18: =IF(C18="","Yes","") | O18: =IF(COUNTIF($B$2:$B$301,B23)>1,"Yes","") | P18: =IF(WEEKDAY(E18,2)>5,"Yes","") | Q18: =_xlfn.LET(_xlpm.HighAmt,L18="Yes",_xlpm.MissingPO,M18="Yes",_xlpm.DupInv,O18="Yes",_xlpm.MissingVendor,N18="Yes",_xlpm.WeekendPost,P18="Yes",_xlfn.TEXTJOIN("; ",TRUE,IF(_xlpm.HighAmt,"High-dollar unapproved",""),IF(_xlpm.MissingPO,"Missing PO",""),IF(_xlpm.DupInv,"Duplicate invoice",""),IF(_xlpm.MissingVendor,"Missing vendor ID",""),IF(_xlpm.WeekendPost,"Weekend posting","")))
A19: 18 | B19: INV-100018 | C19: V1008 | D19: Highland Medical Supply | E19: 46132 | F19: 650.55 | G19: Yes | H19: S. Walker | J19: Sales | K19: Due on receipt | L19: =IF(AND(F19>Dashboard!$B$3,G19="No"),"Yes","") | M19: =IF(I19="","Yes","") -> Yes | N19: =IF(C19="","Yes","") | O19: =IF(COUNTIF($B$2:$B$301,B24)>1,"Yes","") | P19: =IF(WEEKDAY(E19,2)>5,"Yes","") | Q19: =_xlfn.LET(_xlpm.HighAmt,L19="Yes",_xlpm.MissingPO,M19="Yes",_xlpm.DupInv,O19="Yes",_xlpm.MissingVendor,N19="Yes",_xlpm.WeekendPost,P19="Yes",_xlfn.TEXTJOIN("; ",TRUE,IF(_xlpm.HighAmt,"High-dollar unapproved",""),IF(_xlpm.MissingPO,"Missing PO",""),IF(_xlpm.DupInv,"Duplicate invoice",""),IF(_xlpm.MissingVendor,"Missing vendor ID",""),IF(_xlpm.WeekendPost,"Weekend posting",""))) -> Missing PO
A20: 19 | B20: INV-100019 | C20: V1011 | D20: Keystone Security | E20: 46167 | F20: 271.15 | G20: Yes | H20: S. Walker | I20: PO-2026-1019 | J20: Information Technology | K20: Net 15 | L20: =IF(AND(F20>Dashboard!$B$3,G20="No"),"Yes","") | M20: =IF(I20="","Yes","") | N20: =IF(C20="","Yes","") | O20: =IF(COUNTIF($B$2:$B$301,B25)>1,"Yes","") | P20: =IF(WEEKDAY(E20,2)>5,"Yes","") | Q20: =_xlfn.LET(_xlpm.HighAmt,L20="Yes",_xlpm.MissingPO,M20="Yes",_xlpm.DupInv,O20="Yes",_xlpm.MissingVendor,N20="Yes",_xlpm.WeekendPost,P20="Yes",_xlfn.TEXTJOIN("; ",TRUE,IF(_xlpm.HighAmt,"High-dollar unapproved",""),IF(_xlpm.MissingPO,"Missing PO",""),IF(_xlpm.DupInv,"Duplicate invoice",""),IF(_xlpm.MissingVendor,"Missing vendor ID",""),IF(_xlpm.WeekendPost,"Weekend posting","")))
A21: 20 | B21: INV-100020 | C21: V1017 | D21: Quality Data Systems | E21: 46062 | F21: 1140.8 | G21: No | I21: PO-2026-1020 | J21: Human Resources | K21: Net 15 | L21: =IF(AND(F21>Dashboard!$B$3,G21="No"),"Yes","") | M21: =IF(I21="","Yes","") | N21: =IF(C21="","Yes","") | O21: =IF(COUNTIF($B$2:$B$301,B26)>1,"Yes","") | P21: =IF(WEEKDAY(E21,2)>5,"Yes","") | Q21: =_xlfn.LET(_xlpm.HighAmt,L21="Yes",_xlpm.MissingPO,M21="Yes",_xlpm.DupInv,O21="Yes",_xlpm.MissingVendor,N21="Yes",_xlpm.WeekendPost,P21="Yes",_xlfn.TEXTJOIN("; ",TRUE,IF(_xlpm.HighAmt,"High-dollar unapproved",""),IF(_xlpm.MissingPO,"Missing PO",""),IF(_xlpm.DupInv,"Duplicate invoice",""),IF(_xlpm.MissingVendor,"Missing vendor ID",""),IF(_xlpm.WeekendPost,"Weekend posting","")))
A22: 21 | B22: INV-100021 | C22: V1010 | D22: Jefferson Office Interiors | E22: 46045 | F22: 539.31 | G22: Yes | H22: J. Ramirez | I22: PO-2026-1021 | J22: Human Resources | K22: Due on receipt | L22: =IF(AND(F22>Dashboard!$B$3,G22="No"),"Yes","") | M22: =IF(I22="","Yes","") | N22: =IF(C22="","Yes","") | O22: =IF(COUNTIF($B$2:$B$301,B27)>1,"Yes","") | P22: =IF(WEEKDAY(E22,2)>5,"Yes","") | Q22: =_xlfn.LET(_xlpm.HighAmt,L22="Yes",_xlpm.MissingPO,M22="Yes",_xlpm.DupInv,O22="Yes",_xlpm.MissingVendor,N22="Yes",_xlpm.WeekendPost,P22="Yes",_xlfn.TEXTJOIN("; ",TRUE,IF(_xlpm.HighAmt,"High-dollar unapproved",""),IF(_xlpm.MissingPO,"Missing PO",""),IF(_xlpm.DupInv,"Duplicate invoice",""),IF(_xlpm.MissingVendor,"Missing vendor ID",""),IF(_xlpm.WeekendPost,"Weekend posting","")))
A23: 22 | B23: INV-100022 | C23: V1007 | D23: Gateway Business Products | E23: 46174 | F23: 1093.19 | G23: Yes | H23: J. Ramirez | I23: PO-2026-1022 | J23: Marketing | K23: Due on receipt | L23: =IF(AND(F23>Dashboard!$B$3,G23="No"),"Yes","") | M23: =IF(I23="","Yes","") | N23: =IF(C23="","Yes","") | O23: =IF(COUNTIF($B$2:$B$301,B28)>1,"Yes","") | P23: =IF(WEEKDAY(E23,2)>5,"Yes","") | Q23: =_xlfn.LET(_xlpm.HighAmt,L23="Yes",_xlpm.MissingPO,M23="Yes",_xlpm.DupInv,O23="Yes",_xlpm.MissingVendor,N23="Yes",_xlpm.WeekendPost,P23="Yes",_xlfn.TEXTJOIN("; ",TRUE,IF(_xlpm.HighAmt,"High-dollar unapproved",""),IF(_xlpm.MissingPO,"Missing PO",""),IF(_xlpm.DupInv,"Duplicate invoice",""),IF(_xlpm.MissingVendor,"Missing vendor ID",""),IF(_xlpm.WeekendPost,"Weekend posting","")))
A24: 23 | B24: INV-100023 | C24: V1013 | D24: Metro Courier Services | E24: 46146 | F24: 429.24 | G24: Yes | H24: S. Walker | I24: PO-2026-1023 | J24: Human Resources | K24: Net 45 | L24: =IF(AND(F24>Dashboard!$B$3,G24="No"),"Yes","") | M24: =IF(I24="","Yes","") | N24: =IF(C24="","Yes","") | O24: =IF(COUNTIF($B$2:$B$301,B29)>1,"Yes","") | P24: =IF(WEEKDAY(E24,2)>5,"Yes","") | Q24: =_xlfn.LET(_xlpm.HighAmt,L24="Yes",_xlpm.MissingPO,M24="Yes",_xlpm.DupInv,O24="Yes",_xlpm.MissingVendor,N24="Yes",_xlpm.WeekendPost,P24="Yes",_xlfn.TEXTJOIN("; ",TRUE,IF(_xlpm.HighAmt,"High-dollar unapproved",""),IF(_xlpm.MissingPO,"Missing PO",""),IF(_xlpm.DupInv,"Duplicate invoice",""),IF(_xlpm.MissingVendor,"Missing vendor ID",""),IF(_xlpm.WeekendPost,"Weekend posting","")))
A25: 24 | B25: INV-100024 | C25: V1013 | D25: Metro Courier Services | E25: 46195 | F25: 378.9 | G25: Yes | H25: E. Carter | I25: PO-2026-1024 | J25: Human Resources | K25: Net 15 | L25: =IF(AND(F25>Dashboard!$B$3,G25="No"),"Yes","") | M25: =IF(I25="","Yes","") | N25: =IF(C25="","Yes","") | O25: =IF(COUNTIF($B$2:$B$301,B30)>1,"Yes","") | P25: =IF(WEEKDAY(E25,2)>5,"Yes","") | Q25: =_xlfn.LET(_xlpm.HighAmt,L25="Yes",_xlpm.MissingPO,M25="Yes",_xlpm.DupInv,O25="Yes",_xlpm.MissingVendor,N25="Yes",_xlpm.WeekendPost,P25="Yes",_xlfn.TEXTJOIN("; ",TRUE,IF(_xlpm.HighAmt,"High-dollar unapproved",""),IF(_xlpm.MissingPO,"Missing PO",""),IF(_xlpm.DupInv,"Duplicate invoice",""),IF(_xlpm.MissingVendor,"Missing vendor ID",""),IF(_xlpm.WeekendPost,"Weekend posting","")))
A26: 25 | B26: INV-100025 | C26: V1004 | D26: Delta Industrial | E26: 46146 | F26: 817.57 | G26: Yes | H26: A. Brooks | I26: PO-2026-1025 | J26: Information Technology | K26: Due on receipt | L26: =IF(AND(F26>Dashboard!$B$3,G26="No"),"Yes","") | M26: =IF(I26="","Yes","") | N26: =IF(C26="","Yes","") | O26: =IF(COUNTIF($B$2:$B$301,B31)>1,"Yes","") | P26: =IF(WEEKDAY(E26,2)>5,"Yes","") | Q26: =_xlfn.LET(_xlpm.HighAmt,L26="Yes",_xlpm.MissingPO,M26="Yes",_xlpm.DupInv,O26="Yes",_xlpm.MissingVendor,N26="Yes",_xlpm.WeekendPost,P26="Yes",_xlfn.TEXTJOIN("; ",TRUE,IF(_xlpm.HighAmt,"High-dollar unapproved",""),IF(_xlpm.MissingPO,"Missing PO",""),IF(_xlpm.DupInv,"Duplicate invoice",""),IF(_xlpm.MissingVendor,"Missing vendor ID",""),IF(_xlpm.WeekendPost,"Weekend posting","")))
A27: 26 | B27: INV-100026 | C27: V1012 | D27: Lakeside Communications | E27: 46077 | F27: 158.19 | G27: Yes | H27: M. Thompson | I27: PO-2026-1026 | J27: Information Technology | K27: Net 45 | L27: =IF(AND(F27>Dashboard!$B$3,G27="No"),"Yes","") | M27: =IF(I27="","Yes","") | N27: =IF(C27="","Yes","") | O27: =IF(COUNTIF($B$2:$B$301,B32)>1,"Yes","") -> Yes | P27: =IF(WEEKDAY(E27,2)>5,"Yes","") | Q27: =_xlfn.LET(_xlpm.HighAmt,L27="Yes",_xlpm.MissingPO,M27="Yes",_xlpm.DupInv,O27="Yes",_xlpm.MissingVendor,N27="Yes",_xlpm.WeekendPost,P27="Yes",_xlfn.TEXTJOIN("; ",TRUE,IF(_xlpm.HighAmt,"High-dollar unapproved",""),IF(_xlpm.MissingPO,"Missing PO",""),IF(_xlpm.DupInv,"Duplicate invoice",""),IF(_xlpm.MissingVendor,"Missing vendor ID",""),IF(_xlpm.WeekendPost,"Weekend posting",""))) -> Duplicate invoice
A28: 27 | B28: INV-100027 | C28: V1013 | D28: Metro Courier Services | E28: 46116 | F28: 1209.66 | G28: Yes | H28: M. Thompson | I28: PO-2026-1027 | J28: Marketing | K28: Net 45 | L28: =IF(AND(F28>Dashboard!$B$3,G28="No"),"Yes","") | M28: =IF(I28="","Yes","") | N28: =IF(C28="","Yes","") | O28: =IF(COUNTIF($B$2:$B$301,B33)>1,"Yes","") -> Yes | P28: =IF(WEEKDAY(E28,2)>5,"Yes","") -> Yes | Q28: =_xlfn.LET(_xlpm.HighAmt,L28="Yes",_xlpm.MissingPO,M28="Yes",_xlpm.DupInv,O28="Yes",_xlpm.MissingVendor,N28="Yes",_xlpm.WeekendPost,P28="Yes",_xlfn.TEXTJOIN("; ",TRUE,IF(_xlpm.HighAmt,"High-dollar unapproved",""),IF(_xlpm.MissingPO,"Missing PO",""),IF(_xlpm.DupInv,"Duplicate invoice",""),IF(_xlpm.MissingVendor,"Missing vendor ID",""),IF(_xlpm.WeekendPost,"Weekend posting",""))) -> Duplicate invoice; Weekend posting
A29: 28 | B29: INV-100028 | C29: V1012 | D29: Lakeside Communications | E29: 46191 | F29: 711.47 | G29: Yes | H29: M. Thompson | I29: PO-2026-1028 | J29: Accounting | K29: Net 15 | L29: =IF(AND(F29>Dashboard!$B$3,G29="No"),"Yes","") | M29: =IF(I29="","Yes","") | N29: =IF(C29="","Yes","") | O29: =IF(COUNTIF($B$2:$B$301,B34)>1,"Yes","") | P29: =IF(WEEKDAY(E29,2)>5,"Yes","") | Q29: =_xlfn.LET(_xlpm.HighAmt,L29="Yes",_xlpm.MissingPO,M29="Yes",_xlpm.DupInv,O29="Yes",_xlpm.MissingVendor,N29="Yes",_xlpm.WeekendPost,P29="Yes",_xlfn.TEXTJOIN("; ",TRUE,IF(_xlpm.HighAmt,"High-dollar unapproved",""),IF(_xlpm.MissingPO,"Missing PO",""),IF(_xlpm.DupInv,"Duplicate invoice",""),IF(_xlpm.MissingVendor,"Missing vendor ID",""),IF(_xlpm.WeekendPost,"Weekend posting","")))
A30: 29 | B30: INV-100029 | C30: V1009 | D30: Ironwood Equipment | E30: 46142 | F30: 1355.82 | G30: Yes | H30: J. Ramirez | I30: PO-2026-1029 | J30: Information Technology | K30: Due on receipt | L30: =IF(AND(F30>Dashboard!$B$3,G30="No"),"Yes","") | M30: =IF(I30="","Yes","") | N30: =IF(C30="","Yes","") | O30: =IF(COUNTIF($B$2:$B$301,B35)>1,"Yes","") | P30: =IF(WEEKDAY(E30,2)>5,"Yes","") | Q30: =_xlfn.LET(_xlpm.HighAmt,L30="Yes",_xlpm.MissingPO,M30="Yes",_xlpm.DupInv,O30="Yes",_xlpm.MissingVendor,N30="Yes",_xlpm.WeekendPost,P30="Yes",_xlfn.TEXTJOIN("; ",TRUE,IF(_xlpm.HighAmt,"High-dollar unapproved",""),IF(_xlpm.MissingPO,"Missing PO",""),IF(_xlpm.DupInv,"Duplicate invoice",""),IF(_xlpm.MissingVendor,"Missing vendor ID",""),IF(_xlpm.WeekendPost,"Weekend posting","")))
A31: 30 | B31: INV-100030 | C31: V1018 | D31: River City Couriers | E31: 46139 | F31: 112.3 | G31: Yes | H31: M. Thompson | I31: PO-2026-1030 | J31: Sales | K31: Net 45 | L31: =IF(AND(F31>Dashboard!$B$3,G31="No"),"Yes","") | M31: =IF(I31="","Yes","") | N31: =IF(C31="","Yes","") | O31: =IF(COUNTIF($B$2:$B$301,B36)>1,"Yes","") | P31: =IF(WEEKDAY(E31,2)>5,"Yes","") | Q31: =_xlfn.LET(_xlpm.HighAmt,L31="Yes",_xlpm.MissingPO,M31="Yes",_xlpm.DupInv,O31="Yes",_xlpm.MissingVendor,N31="Yes",_xlpm.WeekendPost,P31="Yes",_xlfn.TEXTJOIN("; ",TRUE,IF(_xlpm.HighAmt,"High-dollar unapproved",""),IF(_xlpm.MissingPO,"Missing PO",""),IF(_xlpm.DupInv,"Duplicate invoice",""),IF(_xlpm.MissingVendor,"Missing vendor ID",""),IF(_xlpm.WeekendPost,"Weekend posting","")))
A32: 31 | B32: INV-100031 | C32: V1018 | D32: River City Couriers | E32: 46153 | F32: 1893.55 | G32: Yes | H32: M. Thompson | I32: PO-2026-1031 | J32: Marketing | K32: Net 15 | L32: =IF(AND(F32>Dashboard!$B$3,G32="No"),"Yes","") | M32: =IF(I32="","Yes","") | N32: =IF(C32="","Yes","") | O32: =IF(COUNTIF($B$2:$B$301,B37)>1,"Yes","") | P32: =IF(WEEKDAY(E32,2)>5,"Yes","") | Q32: =_xlfn.LET(_xlpm.HighAmt,L32="Yes",_xlpm.MissingPO,M32="Yes",_xlpm.DupInv,O32="Yes",_xlpm.MissingVendor,N32="Yes",_xlpm.WeekendPost,P32="Yes",_xlfn.TEXTJOIN("; ",TRUE,IF(_xlpm.HighAmt,"High-dollar unapproved",""),IF(_xlpm.MissingPO,"Missing PO",""),IF(_xlpm.DupInv,"Duplicate invoice",""),IF(_xlpm.MissingVendor,"Missing vendor ID",""),IF(_xlpm.WeekendPost,"Weekend posting","")))
A33: 32 | B33: INV-100031 | C33: V1003 | D33: Central Printing Services | E33: 46071 | F33: 1904.65 | G33: Yes | H33: M. Thompson | I33: PO-2026-1032 | J33: Human Resources | K33: Net 15 | L33: =IF(AND(F33>Dashboard!$B$3,G33="No"),"Yes","") | M33: =IF(I33="","Yes","") | N33: =IF(C33="","Yes","") | O33: =IF(COUNTIF($B$2:$B$301,B38)>1,"Yes","") | P33: =IF(WEEKDAY(E33,2)>5,"Yes","") | Q33: =_xlfn.LET(_xlpm.HighAmt,L33="Yes",_xlpm.MissingPO,M33="Yes",_xlpm.DupInv,O33="Yes",_xlpm.MissingVendor,N33="Yes",_xlpm.WeekendPost,P33="Yes",_xlfn.TEXTJOIN("; ",TRUE,IF(_xlpm.HighAmt,"High-dollar unapproved",""),IF(_xlpm.MissingPO,"Missing PO",""),IF(_xlpm.DupInv,"Duplicate invoice",""),IF(_xlpm.MissingVendor,"Missing vendor ID",""),IF(_xlpm.WeekendPost,"Weekend posting","")))
... A37: 36 | B37: INV-100036 | C37: V1010 | D37: Jefferson Office Interiors | E37: 46104 | F37: 398.71 | G37: Yes | H37: J. Ramirez | I37: PO-2026-1036 | J37: Accounting | K37: Net 45 | L37: =IF(AND(F37>Dashboard!$B$3,G37="No"),"Yes","") | M37: =IF(I37="","Yes","") | N37: =IF(C37="","Yes","") | O37: =IF(COUNTIF($B$2:$B$301,B42)>1,"Yes","") | P37: =IF(WEEKDAY(E37,2)>5,"Yes","") | Q37: =_xlfn.LET(_xlpm.HighAmt,L37="Yes",_xlpm.MissingPO,M37="Yes",_xlpm.DupInv,O37="Yes",_xlpm.MissingVendor,N37="Yes",_xlpm.WeekendPost,P37="Yes",_xlfn.TEXTJOIN("; ",TRUE,IF(_xlpm.HighAmt,"High-dollar unapproved",""),IF(_xlpm.MissingPO,"Missing PO",""),IF(_xlpm.DupInv,"Duplicate invoice",""),IF(_xlpm.MissingVendor,"Missing vendor ID",""),IF(_xlpm.WeekendPost,"Weekend posting","")))
A38: 37 | B38: INV-100037 | C38: V1009 | D38: Ironwood Equipment | E38: 46051 | F38: 1254.61 | G38: Yes | H38: E. Carter | J38: Operations | K38: Net 45 | L38: =IF(AND(F38>Dashboard!$B$3,G38="No"),"Yes","") | M38: =IF(I38="","Yes","") -> Yes | N38: =IF(C38="","Yes","") | O38: =IF(COUNTIF($B$2:$B$301,B43)>1,"Yes","") | P38: =IF(WEEKDAY(E38,2)>5,"Yes","") | Q38: =_xlfn.LET(_xlpm.HighAmt,L38="Yes",_xlpm.MissingPO,M38="Yes",_xlpm.DupInv,O38="Yes",_xlpm.MissingVendor,N38="Yes",_xlpm.WeekendPost,P38="Yes",_xlfn.TEXTJOIN("; ",TRUE,IF(_xlpm.HighAmt,"High-dollar unapproved",""),IF(_xlpm.MissingPO,"Missing PO",""),IF(_xlpm.DupInv,"Duplicate invoice",""),IF(_xlpm.MissingVendor,"Missing vendor ID",""),IF(_xlpm.WeekendPost,"Weekend posting",""))) -> Missing PO
A39: 38 | B39: INV-100038 | C39: V1011 | D39: Keystone Security | E39: 46055 | F39: 1287.13 | G39: Yes | H39: A. Brooks | I39: PO-2026-1038 | J39: Accounting | K39: Net 30 | L39: =IF(AND(F39>Dashboard!$B$3,G39="No"),"Yes","") | M39: =IF(I39="","Yes","") | N39: =IF(C39="","Yes","") | O39: =IF(COUNTIF($B$2:$B$301,B44)>1,"Yes","") | P39: =IF(WEEKDAY(E39,2)>5,"Yes","") | Q39: =_xlfn.LET(_xlpm.HighAmt,L39="Yes",_xlpm.MissingPO,M39="Yes",_xlpm.DupInv,O39="Yes",_xlpm.MissingVendor,N39="Yes",_xlpm.WeekendPost,P39="Yes",_xlfn.TEXTJOIN("; ",TRUE,IF(_xlpm.HighAmt,"High-dollar unapproved",""),IF(_xlpm.MissingPO,"Missing PO",""),IF(_xlpm.DupInv,"Duplicate invoice",""),IF(_xlpm.MissingVendor,"Missing vendor ID",""),IF(_xlpm.WeekendPost,"Weekend posting","")))
A40: 39 | B40: INV-100039 | C40: V1004 | D40: Delta Industrial | E40: 46038 | F40: 3381.75 | G40: Yes | H40: A. Brooks | I40: PO-2026-1039 | J40: Marketing | K40: Net 45 | L40: =IF(AND(F40>Dashboard!$B$3,G40="No"),"Yes","") | M40: =IF(I40="","Yes","") | N40: =IF(C40="","Yes","") | O40: =IF(COUNTIF($B$2:$B$301,B45)>1,"Yes","") | P40: =IF(WEEKDAY(E40,2)>5,"Yes","") | Q40: =_xlfn.LET(_xlpm.HighAmt,L40="Yes",_xlpm.MissingPO,M40="Yes",_xlpm.DupInv,O40="Yes",_xlpm.MissingVendor,N40="Yes",_xlpm.WeekendPost,P40="Yes",_xlfn.TEXTJOIN("; ",TRUE,IF(_xlpm.HighAmt,"High-dollar unapproved",""),IF(_xlpm.MissingPO,"Missing PO",""),IF(_xlpm.DupInv,"Duplicate invoice",""),IF(_xlpm.MissingVendor,"Missing vendor ID",""),IF(_xlpm.WeekendPost,"Weekend posting","")))
A41: 40 | B41: INV-100040 | C41: V1012 | D41: Lakeside Communications | E41: 46050 | F41: 448.92 | G41: Yes | H41: E. Carter | I41: PO-2026-1040 | J41: Accounting | K41: Net 30 | L41: =IF(AND(F41>Dashboard!$B$3,G41="No"),"Yes","") | M41: =IF(I41="","Yes","") | N41: =IF(C41="","Yes","") | O41: =IF(COUNTIF($B$2:$B$301,B46)>1,"Yes","") | P41: =IF(WEEKDAY(E41,2)>5,"Yes","") | Q41: =_xlfn.LET(_xlpm.HighAmt,L41="Yes",_xlpm.MissingPO,M41="Yes",_xlpm.DupInv,O41="Yes",_xlpm.MissingVendor,N41="Yes",_xlpm.WeekendPost,P41="Yes",_xlfn.TEXTJOIN("; ",TRUE,IF(_xlpm.HighAmt,"High-dollar unapproved",""),IF(_xlpm.MissingPO,"Missing PO",""),IF(_xlpm.DupInv,"Duplicate invoice",""),IF(_xlpm.MissingVendor,"Missing vendor ID",""),IF(_xlpm.WeekendPost,"Weekend posting","")))
A42: 41 | B42: INV-100041 | C42: V1011 | D42: Keystone Security | E42: 46037 | F42: 525.1 | G42: Yes | H42: M. Thompson | I42: PO-2026-1041 | J42: Purchasing | K42: Net 45 | L42: =IF(AND(F42>Dashboard!$B$3,G42="No"),"Yes","") | M42: =IF(I42="","Yes","") | N42: =IF(C42="","Yes","") | O42: =IF(COUNTIF($B$2:$B$301,B47)>1,"Yes","") | P42: =IF(WEEKDAY(E42,2)>5,"Yes","") | Q42: =_xlfn.LET(_xlpm.HighAmt,L42="Yes",_xlpm.MissingPO,M42="Yes",_xlpm.DupInv,O42="Yes",_xlpm.MissingVendor,N42="Yes",_xlpm.WeekendPost,P42="Yes",_xlfn.TEXTJOIN("; ",TRUE,IF(_xlpm.HighAmt,"High-dollar unapproved",""),IF(_xlpm.MissingPO,"Missing PO",""),IF(_xlpm.DupInv,"Duplicate invoice",""),IF(_xlpm.MissingVendor,"Missing vendor ID",""),IF(_xlpm.WeekendPost,"Weekend posting","")))
A43: 42 | B43: INV-100042 | C43: V1011 | D43: Keystone Security | E43: 46197 | F43: 581.58 | G43: Yes | H43: S. Walker | I43: PO-2026-1042 | J43: Facilities | K43: Net 15 | L43: =IF(AND(F43>Dashboard!$B$3,G43="No"),"Yes","") | M43: =IF(I43="","Yes","") | N43: =IF(C43="","Yes","") | O43: =IF(COUNTIF($B$2:$B$301,B48)>1,"Yes","") | P43: =IF(WEEKDAY(E43,2)>5,"Yes","") | Q43: =_xlfn.LET(_xlpm.HighAmt,L43="Yes",_xlpm.MissingPO,M43="Yes",_xlpm.DupInv,O43="Yes",_xlpm.MissingVendor,N43="Yes",_xlpm.WeekendPost,P43="Yes",_xlfn.TEXTJOIN("; ",TRUE,IF(_xlpm.HighAmt,"High-dollar unapproved",""),IF(_xlpm.MissingPO,"Missing PO",""),IF(_xlpm.DupInv,"Duplicate invoice",""),IF(_xlpm.MissingVendor,"Missing vendor ID",""),IF(_xlpm.WeekendPost,"Weekend posting","")))
A44: 43 | B44: INV-100043 | C44: V1016 | D44: Pioneer Packaging | E44: 46153 | F44: 1604.12 | G44: Yes | H44: M. Thompson | I44: PO-2026-1043 | J44: Facilities | K44: Net 30 | L44: =IF(AND(F44>Dashboard!$B$3,G44="No"),"Yes","") | M44: =IF(I44="","Yes","") | N44: =IF(C44="","Yes","") | O44: =IF(COUNTIF($B$2:$B$301,B49)>1,"Yes","") | P44: =IF(WEEKDAY(E44,2)>5,"Yes","") | Q44: =_xlfn.LET(_xlpm.HighAmt,L44="Yes",_xlpm.MissingPO,M44="Yes",_xlpm.DupInv,O44="Yes",_xlpm.MissingVendor,N44="Yes",_xlpm.WeekendPost,P44="Yes",_xlfn.TEXTJOIN("; ",TRUE,IF(_xlpm.HighAmt,"High-dollar unapproved",""),IF(_xlpm.MissingPO,"Missing PO",""),IF(_xlpm.DupInv,"Duplicate invoice",""),IF(_xlpm.MissingVendor,"Missing vendor ID",""),IF(_xlpm.WeekendPost,"Weekend posting","")))
A45: 44 | B45: INV-100044 | D45: Nashville Paper Company | E45: 46062 | F45: 4025.83 | G45: Yes | H45: M. Thompson | I45: PO-2026-1044 | J45: Facilities | K45: Net 45 | L45: =IF(AND(F45>Dashboard!$B$3,G45="No"),"Yes","") | M45: =IF(I45="","Yes","") | N45: =IF(C45="","Yes","") -> Yes | O45: =IF(COUNTIF($B$2:$B$301,B50)>1,"Yes","") | P45: =IF(WEEKDAY(E45,2)>5,"Yes","") | Q45: =_xlfn.LET(_xlpm.HighAmt,L45="Yes",_xlpm.MissingPO,M45="Yes",_xlpm.DupInv,O45="Yes",_xlpm.MissingVendor,N45="Yes",_xlpm.WeekendPost,P45="Yes",_xlfn.TEXTJOIN("; ",TRUE,IF(_xlpm.HighAmt,"High-dollar unapproved",""),IF(_xlpm.MissingPO,"Missing PO",""),IF(_xlpm.DupInv,"Duplicate invoice",""),IF(_xlpm.MissingVendor,"Missing vendor ID",""),IF(_xlpm.WeekendPost,"Weekend posting",""))) -> Missing vendor ID
A46: 45 | B46: INV-100045 | C46: V1007 | D46: Gateway Business Products | E46: 46027 | F46: 538.18 | G46: Yes | H46: A. Brooks | I46: PO-2026-1045 | J46: Facilities | K46: Net 15 | L46: =IF(AND(F46>Dashboard!$B$3,G46="No"),"Yes","") | M46: =IF(I46="","Yes","") | N46: =IF(C46="","Yes","") | O46: =IF(COUNTIF($B$2:$B$301,B51)>1,"Yes","") | P46: =IF(WEEKDAY(E46,2)>5,"Yes","") | Q46: =_xlfn.LET(_xlpm.HighAmt,L46="Yes",_xlpm.MissingPO,M46="Yes",_xlpm.DupInv,O46="Yes",_xlpm.MissingVendor,N46="Yes",_xlpm.WeekendPost,P46="Yes",_xlfn.TEXTJOIN("; ",TRUE,IF(_xlpm.HighAmt,"High-dollar unapproved",""),IF(_xlpm.MissingPO,"Missing PO",""),IF(_xlpm.DupInv,"Duplicate invoice",""),IF(_xlpm.MissingVendor,"Missing vendor ID",""),IF(_xlpm.WeekendPost,"Weekend posting","")))
A47: 46 | B47: INV-100046 | C47: V1004 | D47: Delta Industrial | E47: 46146 | F47: 3623.62 | G47: Yes | H47: M. Thompson | I47: PO-2026-1046 | J47: Accounting | K47: Net 30 | L47: =IF(AND(F47>Dashboard!$B$3,G47="No"),"Yes","") | M47: =IF(I47="","Yes","") | N47: =IF(C47="","Yes","") | O47: =IF(COUNTIF($B$2:$B$301,B52)>1,"Yes","") | P47: =IF(WEEKDAY(E47,2)>5,"Yes","") | Q47: =_xlfn.LET(_xlpm.HighAmt,L47="Yes",_xlpm.MissingPO,M47="Yes",_xlpm.DupInv,O47="Yes",_xlpm.MissingVendor,N47="Yes",_xlpm.WeekendPost,P47="Yes",_xlfn.TEXTJOIN("; ",TRUE,IF(_xlpm.HighAmt,"High-dollar unapproved",""),IF(_xlpm.MissingPO,"Missing PO",""),IF(_xlpm.DupInv,"Duplicate invoice",""),IF(_xlpm.MissingVendor,"Missing vendor ID",""),IF(_xlpm.WeekendPost,"Weekend posting","")))
A48: 47 | B48: INV-100047 | C48: V1020 | D48: Volunteer State Telecom | E48: 46100 | F48: 12306.73 | G48: No | I48: PO-2026-1047 | J48: Information Technology | K48: Due on receipt | L48: =IF(AND(F48>Dashboard!$B$3,G48="No"),"Yes","") -> Yes | M48: =IF(I48="","Yes","") | N48: =IF(C48="","Yes","") | O48: =IF(COUNTIF($B$2:$B$301,B53)>1,"Yes","") | P48: =IF(WEEKDAY(E48,2)>5,"Yes","") | Q48: =_xlfn.LET(_xlpm.HighAmt,L48="Yes",_xlpm.MissingPO,M48="Yes",_xlpm.DupInv,O48="Yes",_xlpm.MissingVendor,N48="Yes",_xlpm.WeekendPost,P48="Yes",_xlfn.TEXTJOIN("; ",TRUE,IF(_xlpm.HighAmt,"High-dollar unapproved",""),IF(_xlpm.MissingPO,"Missing PO",""),IF(_xlpm.DupInv,"Duplicate invoice",""),IF(_xlpm.MissingVendor,"Missing vendor ID",""),IF(_xlpm.WeekendPost,"Weekend posting",""))) -> High-dollar unapproved
A49: 48 | B49: INV-100048 | C49: V1019 | D49: Summit Professional Services | E49: 46027 | F49: 1076.41 | G49: No | I49: PO-2026-1048 | J49: Information Technology | K49: Net 15 | L49: =IF(AND(F49>Dashboard!$B$3,G49="No"),"Yes","") | M49: =IF(I49="","Yes","") | N49: =IF(C49="","Yes","") | O49: =IF(COUNTIF($B$2:$B$301,B54)>1,"Yes","") | P49: =IF(WEEKDAY(E49,2)>5,"Yes","") | Q49: =_xlfn.LET(_xlpm.HighAmt,L49="Yes",_xlpm.MissingPO,M49="Yes",_xlpm.DupInv,O49="Yes",_xlpm.MissingVendor,N49="Yes",_xlpm.WeekendPost,P49="Yes",_xlfn.TEXTJOIN("; ",TRUE,IF(_xlpm.HighAmt,"High-dollar unapproved",""),IF(_xlpm.MissingPO,"Missing PO",""),IF(_xlpm.DupInv,"Duplicate invoice",""),IF(_xlpm.MissingVendor,"Missing vendor ID",""),IF(_xlpm.WeekendPost,"Weekend posting","")))
A50: 49 | B50: INV-100049 | C50: V1018 | D50: River City Couriers | E50: 46151 | F50: 1623.79 | G50: Yes | H50: E. Carter | I50: PO-2026-1049 | J50: Information Technology | K50: Net 45 | L50: =IF(AND(F50>Dashboard!$B$3,G50="No"),"Yes","") | M50: =IF(I50="","Yes","") | N50: =IF(C50="","Yes","") | O50: =IF(COUNTIF($B$2:$B$301,B55)>1,"Yes","") | P50: =IF(WEEKDAY(E50,2)>5,"Yes","") -> Yes | Q50: =_xlfn.LET(_xlpm.HighAmt,L50="Yes",_xlpm.MissingPO,M50="Yes",_xlpm.DupInv,O50="Yes",_xlpm.MissingVendor,N50="Yes",_xlpm.WeekendPost,P50="Yes",_xlfn.TEXTJOIN("; ",TRUE,IF(_xlpm.HighAmt,"High-dollar unapproved",""),IF(_xlpm.MissingPO,"Missing PO",""),IF(_xlpm.DupInv,"Duplicate invoice",""),IF(_xlpm.MissingVendor,"Missing vendor ID",""),IF(_xlpm.WeekendPost,"Weekend posting",""))) -> Weekend posting
A51: 50 | B51: INV-100050 | C51: V1014 | D51: Nashville Paper Company | E51: 46139 | F51: 516.46 | G51: Yes | H51: S. Walker | I51: PO-2026-1050 | J51: Operations | K51: Net 15 | L51: =IF(AND(F51>Dashboard!$B$3,G51="No"),"Yes","") | M51: =IF(I51="","Yes","") | N51: =IF(C51="","Yes","") | O51: =IF(COUNTIF($B$2:$B$301,B56)>1,"Yes","") | P51: =IF(WEEKDAY(E51,2)>5,"Yes","") | Q51: =_xlfn.LET(_xlpm.HighAmt,L51="Yes",_xlpm.MissingPO,M51="Yes",_xlpm.DupInv,O51="Yes",_xlpm.MissingVendor,N51="Yes",_xlpm.WeekendPost,P51="Yes",_xlfn.TEXTJOIN("; ",TRUE,IF(_xlpm.HighAmt,"High-dollar unapproved",""),IF(_xlpm.MissingPO,"Missing PO",""),IF(_xlpm.DupInv,"Duplicate invoice",""),IF(_xlpm.MissingVendor,"Missing vendor ID",""),IF(_xlpm.WeekendPost,"Weekend posting","")))
A52: 51 | B52: INV-100051 | C52: V1008 | D52: Highland Medical Supply | E52: 46176 | F52: 954.14 | G52: Yes | H52: M. Thompson | I52: PO-2026-1051 | J52: Human Resources | K52: Due on receipt | L52: =IF(AND(F52>Dashboard!$B$3,G52="No"),"Yes","") | M52: =IF(I52="","Yes","") | N52: =IF(C52="","Yes","") | O52: =IF(COUNTIF($B$2:$B$301,B57)>1,"Yes","") | P52: =IF(WEEKDAY(E52,2)>5,"Yes","") | Q52: =_xlfn.LET(_xlpm.HighAmt,L52="Yes",_xlpm.MissingPO,M52="Yes",_xlpm.DupInv,O52="Yes",_xlpm.MissingVendor,N52="Yes",_xlpm.WeekendPost,P52="Yes",_xlfn.TEXTJOIN("; ",TRUE,IF(_xlpm.HighAmt,"High-dollar unapproved",""),IF(_xlpm.MissingPO,"Missing PO",""),IF(_xlpm.DupInv,"Duplicate invoice",""),IF(_xlpm.MissingVendor,"Missing vendor ID",""),IF(_xlpm.WeekendPost,"Weekend posting","")))
A53: 52 | B53: INV-100052 | C53: V1004 | D53: Delta Industrial | E53: 46106 | F53: 1218.82 | G53: Yes | H53: E. Carter | I53: PO-2026-1052 | J53: Accounting | K53: Net 45 | L53: =IF(AND(F53>Dashboard!$B$3,G53="No"),"Yes","") | M53: =IF(I53="","Yes","") | N53: =IF(C53="","Yes","") | O53: =IF(COUNTIF($B$2:$B$301,B58)>1,"Yes","") | P53: =IF(WEEKDAY(E53,2)>5,"Yes","") | Q53: =_xlfn.LET(_xlpm.HighAmt,L53="Yes",_xlpm.MissingPO,M53="Yes",_xlpm.DupInv,O53="Yes",_xlpm.MissingVendor,N53="Yes",_xlpm.WeekendPost,P53="Yes",_xlfn.TEXTJOIN("; ",TRUE,IF(_xlpm.HighAmt,"High-dollar unapproved",""),IF(_xlpm.MissingPO,"Missing PO",""),IF(_xlpm.DupInv,"Duplicate invoice",""),IF(_xlpm.MissingVendor,"Missing vendor ID",""),IF(_xlpm.WeekendPost,"Weekend posting","")))
A54: 53 | B54: INV-100053 | C54: V1010 | D54: Jefferson Office Interiors | E54: 46154 | F54: 219.81 | G54: Yes | H54: S. Walker | I54: PO-2026-1053 | J54: Accounting | K54: Due on receipt | L54: =IF(AND(F54>Dashboard!$B$3,G54="No"),"Yes","") | M54: =IF(I54="","Yes","") | N54: =IF(C54="","Yes","") | O54: =IF(COUNTIF($B$2:$B$301,B59)>1,"Yes","") | P54: =IF(WEEKDAY(E54,2)>5,"Yes","") | Q54: =_xlfn.LET(_xlpm.HighAmt,L54="Yes",_xlpm.MissingPO,M54="Yes",_xlpm.DupInv,O54="Yes",_xlpm.MissingVendor,N54="Yes",_xlpm.WeekendPost,P54="Yes",_xlfn.TEXTJOIN("; ",TRUE,IF(_xlpm.HighAmt,"High-dollar unapproved",""),IF(_xlpm.MissingPO,"Missing PO",""),IF(_xlpm.DupInv,"Duplicate invoice",""),IF(_xlpm.MissingVendor,"Missing vendor ID",""),IF(_xlpm.WeekendPost,"Weekend posting","")))
A55: 54 | B55: INV-100054 | C55: V1002 | D55: Blue Ridge Technology | E55: 46115 | F55: 615.75 | G55: Yes | H55: S. Walker | I55: PO-2026-1054 | J55: Information Technology | K55: Net 30 | L55: =IF(AND(F55>Dashboard!$B$3,G55="No"),"Yes","") | M55: =IF(I55="","Yes","") | N55: =IF(C55="","Yes","") | O55: =IF(COUNTIF($B$2:$B$301,B60)>1,"Yes","") | P55: =IF(WEEKDAY(E55,2)>5,"Yes","") | Q55: =_xlfn.LET(_xlpm.HighAmt,L55="Yes",_xlpm.MissingPO,M55="Yes",_xlpm.DupInv,O55="Yes",_xlpm.MissingVendor,N55="Yes",_xlpm.WeekendPost,P55="Yes",_xlfn.TEXTJOIN("; ",TRUE,IF(_xlpm.HighAmt,"High-dollar unapproved",""),IF(_xlpm.MissingPO,"Missing PO",""),IF(_xlpm.DupInv,"Duplicate invoice",""),IF(_xlpm.MissingVendor,"Missing vendor ID",""),IF(_xlpm.WeekendPost,"Weekend posting","")))
A56: 55 | B56: INV-100055 | C56: V1002 | D56: Blue Ridge Technology | E56: 46066 | F56: 2769 | G56: Yes | H56: E. Carter | I56: PO-2026-1055 | J56: Sales | K56: Net 15 | L56: =IF(AND(F56>Dashboard!$B$3,G56="No"),"Yes","") | M56: =IF(I56="","Yes","") | N56: =IF(C56="","Yes","") | O56: =IF(COUNTIF($B$2:$B$301,B61)>1,"Yes","") | P56: =IF(WEEKDAY(E56,2)>5,"Yes","") | Q56: =_xlfn.LET(_xlpm.HighAmt,L56="Yes",_xlpm.MissingPO,M56="Yes",_xlpm.DupInv,O56="Yes",_xlpm.MissingVendor,N56="Yes",_xlpm.WeekendPost,P56="Yes",_xlfn.TEXTJOIN("; ",TRUE,IF(_xlpm.HighAmt,"High-dollar unapproved",""),IF(_xlpm.MissingPO,"Missing PO",""),IF(_xlpm.DupInv,"Duplicate invoice",""),IF(_xlpm.MissingVendor,"Missing vendor ID",""),IF(_xlpm.WeekendPost,"Weekend posting","")))
A57: 56 | B57: INV-100056 | C57: V1015 | D57: Oak Street Maintenance | E57: 46048 | F57: 4951.77 | G57: Yes | H57: S. Walker | I57: PO-2026-1056 | J57: Marketing | K57: Net 45 | L57: =IF(AND(F57>Dashboard!$B$3,G57="No"),"Yes","") | M57: =IF(I57="","Yes","") | N57: =IF(C57="","Yes","") | O57: =IF(COUNTIF($B$2:$B$301,B62)>1,"Yes","") | P57: =IF(WEEKDAY(E57,2)>5,"Yes","") | Q57: =_xlfn.LET(_xlpm.HighAmt,L57="Yes",_xlpm.MissingPO,M57="Yes",_xlpm.DupInv,O57="Yes",_xlpm.MissingVendor,N57="Yes",_xlpm.WeekendPost,P57="Yes",_xlfn.TEXTJOIN("; ",TRUE,IF(_xlpm.HighAmt,"High-dollar unapproved",""),IF(_xlpm.MissingPO,"Missing PO",""),IF(_xlpm.DupInv,"Duplicate invoice",""),IF(_xlpm.MissingVendor,"Missing vendor ID",""),IF(_xlpm.WeekendPost,"Weekend posting","")))
A58: 57 | B58: INV-100057 | C58: V1006 | D58: Franklin Facility Services | E58: 46156 | F58: 419.9 | G58: Yes | H58: M. Thompson | I58: PO-2026-1057 | J58: Information Technology | K58: Net 15 | L58: =IF(AND(F58>Dashboard!$B$3,G58="No"),"Yes","") | M58: =IF(I58="","Yes","") | N58: =IF(C58="","Yes","") | O58: =IF(COUNTIF($B$2:$B$301,B63)>1,"Yes","") | P58: =IF(WEEKDAY(E58,2)>5,"Yes","") | Q58: =_xlfn.LET(_xlpm.HighAmt,L58="Yes",_xlpm.MissingPO,M58="Yes",_xlpm.DupInv,O58="Yes",_xlpm.MissingVendor,N58="Yes",_xlpm.WeekendPost,P58="Yes",_xlfn.TEXTJOIN("; ",TRUE,IF(_xlpm.HighAmt,"High-dollar unapproved",""),IF(_xlpm.MissingPO,"Missing PO",""),IF(_xlpm.DupInv,"Duplicate invoice",""),IF(_xlpm.MissingVendor,"Missing vendor ID",""),IF(_xlpm.WeekendPost,"Weekend posting","")))
A59: 58 | B59: INV-100058 | C59: V1009 | D59: Ironwood Equipment | E59: 46160 | F59: 559.04 | G59: No | I59: PO-2026-1058 | J59: Accounting | K59: Net 30 | L59: =IF(AND(F59>Dashboard!$B$3,G59="No"),"Yes","") | M59: =IF(I59="","Yes","") | N59: =IF(C59="","Yes","") | O59: =IF(COUNTIF($B$2:$B$301,B64)>1,"Yes","") | P59: =IF(WEEKDAY(E59,2)>5,"Yes","") | Q59: =_xlfn.LET(_xlpm.HighAmt,L59="Yes",_xlpm.MissingPO,M59="Yes",_xlpm.DupInv,O59="Yes",_xlpm.MissingVendor,N59="Yes",_xlpm.WeekendPost,P59="Yes",_xlfn.TEXTJOIN("; ",TRUE,IF(_xlpm.HighAmt,"High-dollar unapproved",""),IF(_xlpm.MissingPO,"Missing PO",""),IF(_xlpm.DupInv,"Duplicate invoice",""),IF(_xlpm.MissingVendor,"Missing vendor ID",""),IF(_xlpm.WeekendPost,"Weekend posting","")))
A60: 59 | B60: INV-100059 | C60: V1016 | D60: Pioneer Packaging | E60: 46184 | F60: 791.35 | G60: No | I60: PO-2026-1059 | J60: Purchasing | K60: Net 15 | L60: =IF(AND(F60>Dashboard!$B$3,G60="No"),"Yes","") | M60: =IF(I60="","Yes","") | N60: =IF(C60="","Yes","") | O60: =IF(COUNTIF($B$2:$B$301,B65)>1,"Yes","") | P60: =IF(WEEKDAY(E60,2)>5,"Yes","") | Q60: =_xlfn.LET(_xlpm.HighAmt,L60="Yes",_xlpm.MissingPO,M60="Yes",_xlpm.DupInv,O60="Yes",_xlpm.MissingVendor,N60="Yes",_xlpm.WeekendPost,P60="Yes",_xlfn.TEXTJOIN("; ",TRUE,IF(_xlpm.HighAmt,"High-dollar unapproved",""),IF(_xlpm.MissingPO,"Missing PO",""),IF(_xlpm.DupInv,"Duplicate invoice",""),IF(_xlpm.MissingVendor,"Missing vendor ID",""),IF(_xlpm.WeekendPost,"Weekend posting","")))
A61: 60 | B61: INV-100060 | C61: V1020 | D61: Volunteer State Telecom | E61: 46062 | F61: 1553.81 | G61: Yes | H61: M. Thompson | I61: PO-2026-1060 | J61: Human Resources | K61: Due on receipt | L61: =IF(AND(F61>Dashboard!$B$3,G61="No"),"Yes","") | M61: =IF(I61="","Yes","") | N61: =IF(C61="","Yes","") | O61: =IF(COUNTIF($B$2:$B$301,B66)>1,"Yes","") | P61: =IF(WEEKDAY(E61,2)>5,"Yes","") | Q61: =_xlfn.LET(_xlpm.HighAmt,L61="Yes",_xlpm.MissingPO,M61="Yes",_xlpm.DupInv,O61="Yes",_xlpm.MissingVendor,N61="Yes",_xlpm.WeekendPost,P61="Yes",_xlfn.TEXTJOIN("; ",TRUE,IF(_xlpm.HighAmt,"High-dollar unapproved",""),IF(_xlpm.MissingPO,"Missing PO",""),IF(_xlpm.DupInv,"Duplicate invoice",""),IF(_xlpm.MissingVendor,"Missing vendor ID",""),IF(_xlpm.WeekendPost,"Weekend posting","")))
A62: 61 | B62: INV-100061 | C62: V1020 | D62: Volunteer State Telecom | E62: 46189 | F62: 467 | G62: Yes | H62: S. Walker | I62: PO-2026-1061 | J62: Operations | K62: Net 15 | L62: =IF(AND(F62>Dashboard!$B$3,G62="No"),"Yes","") | M62: =IF(I62="","Yes","") | N62: =IF(C62="","Yes","") | O62: =IF(COUNTIF($B$2:$B$301,B67)>1,"Yes","") | P62: =IF(WEEKDAY(E62,2)>5,"Yes","") | Q62: =_xlfn.LET(_xlpm.HighAmt,L62="Yes",_xlpm.MissingPO,M62="Yes",_xlpm.DupInv,O62="Yes",_xlpm.MissingVendor,N62="Yes",_xlpm.WeekendPost,P62="Yes",_xlfn.TEXTJOIN("; ",TRUE,IF(_xlpm.HighAmt,"High-dollar unapproved",""),IF(_xlpm.MissingPO,"Missing PO",""),IF(_xlpm.DupInv,"Duplicate invoice",""),IF(_xlpm.MissingVendor,"Missing vendor ID",""),IF(_xlpm.WeekendPost,"Weekend posting","")))
A63: 62 | B63: INV-100062 | C63: V1013 | D63: Metro Courier Services | E63: 46119 | F63: 1032.5 | G63: Yes | H63: E. Carter | I63: PO-2026-1062 | J63: Purchasing | K63: Net 15 | L63: =IF(AND(F63>Dashboard!$B$3,G63="No"),"Yes","") | M63: =IF(I63="","Yes","") | N63: =IF(C63="","Yes","") | O63: =IF(COUNTIF($B$2:$B$301,B68)>1,"Yes","") | P63: =IF(WEEKDAY(E63,2)>5,"Yes","") | Q63: =_xlfn.LET(_xlpm.HighAmt,L63="Yes",_xlpm.MissingPO,M63="Yes",_xlpm.DupInv,O63="Yes",_xlpm.MissingVendor,N63="Yes",_xlpm.WeekendPost,P63="Yes",_xlfn.TEXTJOIN("; ",TRUE,IF(_xlpm.HighAmt,"High-dollar unapproved",""),IF(_xlpm.MissingPO,"Missing PO",""),IF(_xlpm.DupInv,"Duplicate invoice",""),IF(_xlpm.MissingVendor,"Missing vendor ID",""),IF(_xlpm.WeekendPost,"Weekend posting","")))
A64: 63 | B64: INV-100063 | C64: V1010 | D64: Jefferson Office Interiors | E64: 46153 | F64: 437.71 | G64: Yes | H64: M. Thompson | I64: PO-2026-1063 | J64: Sales | K64: Net 15 | L64: =IF(AND(F64>Dashboard!$B$3,G64="No"),"Yes","") | M64: =IF(I64="","Yes","") | N64: =IF(C64="","Yes","") | O64: =IF(COUNTIF($B$2:$B$301,B69)>1,"Yes","") | P64: =IF(WEEKDAY(E64,2)>5,"Yes","") | Q64: =_xlfn.LET(_xlpm.HighAmt,L64="Yes",_xlpm.MissingPO,M64="Yes",_xlpm.DupInv,O64="Yes",_xlpm.MissingVendor,N64="Yes",_xlpm.WeekendPost,P64="Yes",_xlfn.TEXTJOIN("; ",TRUE,IF(_xlpm.HighAmt,"High-dollar unapproved",""),IF(_xlpm.MissingPO,"Missing PO",""),IF(_xlpm.DupInv,"Duplicate invoice",""),IF(_xlpm.MissingVendor,"Missing vendor ID",""),IF(_xlpm.WeekendPost,"Weekend posting","")))
A65: 64 | B65: INV-100064 | C65: V1011 | D65: Keystone Security | E65: 46189 | F65: 407.65 | G65: Yes | H65: E. Carter | I65: PO-2026-1064 | J65: Human Resources | K65: Net 15 | L65: =IF(AND(F65>Dashboard!$B$3,G65="No"),"Yes","") | M65: =IF(I65="","Yes","") | N65: =IF(C65="","Yes","") | O65: =IF(COUNTIF($B$2:$B$301,B70)>1,"Yes","") | P65: =IF(WEEKDAY(E65,2)>5,"Yes","") | Q65: =_xlfn.LET(_xlpm.HighAmt,L65="Yes",_xlpm.MissingPO,M65="Yes",_xlpm.DupInv,O65="Yes",_xlpm.MissingVendor,N65="Yes",_xlpm.WeekendPost,P65="Yes",_xlfn.TEXTJOIN("; ",TRUE,IF(_xlpm.HighAmt,"High-dollar unapproved",""),IF(_xlpm.MissingPO,"Missing PO",""),IF(_xlpm.DupInv,"Duplicate invoice",""),IF(_xlpm.MissingVendor,"Missing vendor ID",""),IF(_xlpm.WeekendPost,"Weekend posting","")))
A66: 65 | B66: INV-100065 | C66: V1003 | D66: Central Printing Services | E66: 46202 | F66: 683.76 | G66: Yes | H66: J. Ramirez | I66: PO-2026-1065 | J66: Accounting | K66: Due on receipt | L66: =IF(AND(F66>Dashboard!$B$3,G66="No"),"Yes","") | M66: =IF(I66="","Yes","") | N66: =IF(C66="","Yes","") | O66: =IF(COUNTIF($B$2:$B$301,B71)>1,"Yes","") | P66: =IF(WEEKDAY(E66,2)>5,"Yes","") | Q66: =_xlfn.LET(_xlpm.HighAmt,L66="Yes",_xlpm.MissingPO,M66="Yes",_xlpm.DupInv,O66="Yes",_xlpm.MissingVendor,N66="Yes",_xlpm.WeekendPost,P66="Yes",_xlfn.TEXTJOIN("; ",TRUE,IF(_xlpm.HighAmt,"High-dollar unapproved",""),IF(_xlpm.MissingPO,"Missing PO",""),IF(_xlpm.DupInv,"Duplicate invoice",""),IF(_xlpm.MissingVendor,"Missing vendor ID",""),IF(_xlpm.WeekendPost,"Weekend posting","")))
A67: 66 | B67: INV-100066 | D67: Central Printing Services | E67: 46132 | F67: 1563.05 | G67: Yes | H67: J. Ramirez | J67: Facilities | K67: Net 15 | L67: =IF(AND(F67>Dashboard!$B$3,G67="No"),"Yes","") | M67: =IF(I67="","Yes","") -> Yes | N67: =IF(C67="","Yes","") -> Yes | O67: =IF(COUNTIF($B$2:$B$301,B72)>1,"Yes","") | P67: =IF(WEEKDAY(E67,2)>5,"Yes","") | Q67: =_xlfn.LET(_xlpm.HighAmt,L67="Yes",_xlpm.MissingPO,M67="Yes",_xlpm.DupInv,O67="Yes",_xlpm.MissingVendor,N67="Yes",_xlpm.WeekendPost,P67="Yes",_xlfn.TEXTJOIN("; ",TRUE,IF(_xlpm.HighAmt,"High-dollar unapproved",""),IF(_xlpm.MissingPO,"Missing PO",""),IF(_xlpm.DupInv,"Duplicate invoice",""),IF(_xlpm.MissingVendor,"Missing vendor ID",""),IF(_xlpm.WeekendPost,"Weekend posting",""))) -> Missing PO; Missing vendor ID
A68: 67 | B68: INV-100067 | C68: V1010 | D68: Jefferson Office Interiors | E68: 46168 | F68: 285.2 | G68: Yes | H68: S. Walker | I68: PO-2026-1067 | J68: Purchasing | K68: Net 45 | L68: =IF(AND(F68>Dashboard!$B$3,G68="No"),"Yes","") | M68: =IF(I68="","Yes","") | N68: =IF(C68="","Yes","") | O68: =IF(COUNTIF($B$2:$B$301,B73)>1,"Yes","") | P68: =IF(WEEKDAY(E68,2)>5,"Yes","") | Q68: =_xlfn.LET(_xlpm.HighAmt,L68="Yes",_xlpm.MissingPO,M68="Yes",_xlpm.DupInv,O68="Yes",_xlpm.MissingVendor,N68="Yes",_xlpm.WeekendPost,P68="Yes",_xlfn.TEXTJOIN("; ",TRUE,IF(_xlpm.HighAmt,"High-dollar unapproved",""),IF(_xlpm.MissingPO,"Missing PO",""),IF(_xlpm.DupInv,"Duplicate invoice",""),IF(_xlpm.MissingVendor,"Missing vendor ID",""),IF(_xlpm.WeekendPost,"Weekend posting","")))
A69: 68 | B69: INV-100068 | C69: V1009 | D69: Ironwood Equipment | E69: 46076 | F69: 532.52 | G69: Yes | H69: M. Thompson | I69: PO-2026-1068 | J69: Purchasing | K69: Net 45 | L69: =IF(AND(F69>Dashboard!$B$3,G69="No"),"Yes","") | M69: =IF(I69="","Yes","") | N69: =IF(C69="","Yes","") | O69: =IF(COUNTIF($B$2:$B$301,B74)>1,"Yes","") | P69: =IF(WEEKDAY(E69,2)>5,"Yes","") | Q69: =_xlfn.LET(_xlpm.HighAmt,L69="Yes",_xlpm.MissingPO,M69="Yes",_xlpm.DupInv,O69="Yes",_xlpm.MissingVendor,N69="Yes",_xlpm.WeekendPost,P69="Yes",_xlfn.TEXTJOIN("; ",TRUE,IF(_xlpm.HighAmt,"High-dollar unapproved",""),IF(_xlpm.MissingPO,"Missing PO",""),IF(_xlpm.DupInv,"Duplicate invoice",""),IF(_xlpm.MissingVendor,"Missing vendor ID",""),IF(_xlpm.WeekendPost,"Weekend posting","")))
A70: 69 | B70: INV-100069 | C70: V1011 | D70: Keystone Security | E70: 46202 | F70: 3085.02 | G70: Yes | H70: A. Brooks | I70: PO-2026-1069 | J70: Facilities | K70: Net 30 | L70: =IF(AND(F70>Dashboard!$B$3,G70="No"),"Yes","") | M70: =IF(I70="","Yes","") | N70: =IF(C70="","Yes","") | O70: =IF(COUNTIF($B$2:$B$301,B75)>1,"Yes","") | P70: =IF(WEEKDAY(E70,2)>5,"Yes","") | Q70: =_xlfn.LET(_xlpm.HighAmt,L70="Yes",_xlpm.MissingPO,M70="Yes",_xlpm.DupInv,O70="Yes",_xlpm.MissingVendor,N70="Yes",_xlpm.WeekendPost,P70="Yes",_xlfn.TEXTJOIN("; ",TRUE,IF(_xlpm.HighAmt,"High-dollar unapproved",""),IF(_xlpm.MissingPO,"Missing PO",""),IF(_xlpm.DupInv,"Duplicate invoice",""),IF(_xlpm.MissingVendor,"Missing vendor ID",""),IF(_xlpm.WeekendPost,"Weekend posting","")))
A71: 70 | B71: INV-100070 | C71: V1014 | D71: Nashville Paper Company | E71: 46132 | F71: 2181.48 | G71: Yes | H71: J. Ramirez | I71: PO-2026-1070 | J71: Information Technology | K71: Net 15 | L71: =IF(AND(F71>Dashboard!$B$3,G71="No"),"Yes","") | M71: =IF(I71="","Yes","") | N71: =IF(C71="","Yes","") | O71: =IF(COUNTIF($B$2:$B$301,B76)>1,"Yes","") | P71: =IF(WEEKDAY(E71,2)>5,"Yes","") | Q71: =_xlfn.LET(_xlpm.HighAmt,L71="Yes",_xlpm.MissingPO,M71="Yes",_xlpm.DupInv,O71="Yes",_xlpm.MissingVendor,N71="Yes",_xlpm.WeekendPost,P71="Yes",_xlfn.TEXTJOIN("; ",TRUE,IF(_xlpm.HighAmt,"High-dollar unapproved",""),IF(_xlpm.MissingPO,"Missing PO",""),IF(_xlpm.DupInv,"Duplicate invoice",""),IF(_xlpm.MissingVendor,"Missing vendor ID",""),IF(_xlpm.WeekendPost,"Weekend posting","")))
A72: 71 | B72: INV-100071 | C72: V1015 | D72: Oak Street Maintenance | E72: 46146 | F72: 2784.25 | G72: Yes | H72: E. Carter | I72: PO-2026-1071 | J72: Sales | K72: Net 15 | L72: =IF(AND(F72>Dashboard!$B$3,G72="No"),"Yes","") | M72: =IF(I72="","Yes","") | N72: =IF(C72="","Yes","") | O72: =IF(COUNTIF($B$2:$B$301,B77)>1,"Yes","") | P72: =IF(WEEKDAY(E72,2)>5,"Yes","") | Q72: =_xlfn.LET(_xlpm.HighAmt,L72="Yes",_xlpm.MissingPO,M72="Yes",_xlpm.DupInv,O72="Yes",_xlpm.MissingVendor,N72="Yes",_xlpm.WeekendPost,P72="Yes",_xlfn.TEXTJOIN("; ",TRUE,IF(_xlpm.HighAmt,"High-dollar unapproved",""),IF(_xlpm.MissingPO,"Missing PO",""),IF(_xlpm.DupInv,"Duplicate invoice",""),IF(_xlpm.MissingVendor,"Missing vendor ID",""),IF(_xlpm.WeekendPost,"Weekend posting","")))
A73: 72 | B73: INV-100072 | C73: V1020 | D73: Volunteer State Telecom | E73: 46134 | F73: 581.04 | G73: Yes | H73: S. Walker | I73: PO-2026-1072 | J73: Human Resources | K73: Due on receipt | L73: =IF(AND(F73>Dashboard!$B$3,G73="No"),"Yes","") | M73: =IF(I73="","Yes","") | N73: =IF(C73="","Yes","") | O73: =IF(COUNTIF($B$2:$B$301,B78)>1,"Yes","") | P73: =IF(WEEKDAY(E73,2)>5,"Yes","") | Q73: =_xlfn.LET(_xlpm.HighAmt,L73="Yes",_xlpm.MissingPO,M73="Yes",_xlpm.DupInv,O73="Yes",_xlpm.MissingVendor,N73="Yes",_xlpm.WeekendPost,P73="Yes",_xlfn.TEXTJOIN("; ",TRUE,IF(_xlpm.HighAmt,"High-dollar unapproved",""),IF(_xlpm.MissingPO,"Missing PO",""),IF(_xlpm.DupInv,"Duplicate invoice",""),IF(_xlpm.MissingVendor,"Missing vendor ID",""),IF(_xlpm.WeekendPost,"Weekend posting","")))
A74: 73 | B74: INV-100073 | C74: V1020 | D74: Volunteer State Telecom | E74: 46072 | F74: 3025.61 | G74: Yes | H74: M. Thompson | I74: PO-2026-1073 | J74: Information Technology | K74: Net 45 | L74: =IF(AND(F74>Dashboard!$B$3,G74="No"),"Yes","") | M74: =IF(I74="","Yes","") | N74: =IF(C74="","Yes","") | O74: =IF(COUNTIF($B$2:$B$301,B79)>1,"Yes","") | P74: =IF(WEEKDAY(E74,2)>5,"Yes","") | Q74: =_xlfn.LET(_xlpm.HighAmt,L74="Yes",_xlpm.MissingPO,M74="Yes",_xlpm.DupInv,O74="Yes",_xlpm.MissingVendor,N74="Yes",_xlpm.WeekendPost,P74="Yes",_xlfn.TEXTJOIN("; ",TRUE,IF(_xlpm.HighAmt,"High-dollar unapproved",""),IF(_xlpm.MissingPO,"Missing PO",""),IF(_xlpm.DupInv,"Duplicate invoice",""),IF(_xlpm.MissingVendor,"Missing vendor ID",""),IF(_xlpm.WeekendPost,"Weekend posting","")))
A75: 74 | B75: INV-100074 | C75: V1017 | D75: Quality Data Systems | E75: 46076 | F75: 2219.6 | G75: Yes | H75: A. Brooks | I75: PO-2026-1074 | J75: Operations | K75: Due on receipt | L75: =IF(AND(F75>Dashboard!$B$3,G75="No"),"Yes","") | M75: =IF(I75="","Yes","") | N75: =IF(C75="","Yes","") | O75: =IF(COUNTIF($B$2:$B$301,B80)>1,"Yes","") | P75: =IF(WEEKDAY(E75,2)>5,"Yes","") | Q75: =_xlfn.LET(_xlpm.HighAmt,L75="Yes",_xlpm.MissingPO,M75="Yes",_xlpm.DupInv,O75="Yes",_xlpm.MissingVendor,N75="Yes",_xlpm.WeekendPost,P75="Yes",_xlfn.TEXTJOIN("; ",TRUE,IF(_xlpm.HighAmt,"High-dollar unapproved",""),IF(_xlpm.MissingPO,"Missing PO",""),IF(_xlpm.DupInv,"Duplicate invoice",""),IF(_xlpm.MissingVendor,"Missing vendor ID",""),IF(_xlpm.WeekendPost,"Weekend posting","")))
A76: 75 | B76: INV-100075 | C76: V1009 | D76: Ironwood Equipment | E76: 46203 | F76: 3270.55 | G76: Yes | H76: J. Ramirez | I76: PO-2026-1075 | J76: Marketing | K76: Net 30 | L76: =IF(AND(F76>Dashboard!$B$3,G76="No"),"Yes","") | M76: =IF(I76="","Yes","") | N76: =IF(C76="","Yes","") | O76: =IF(COUNTIF($B$2:$B$301,B81)>1,"Yes","") | P76: =IF(WEEKDAY(E76,2)>5,"Yes","") | Q76: =_xlfn.LET(_xlpm.HighAmt,L76="Yes",_xlpm.MissingPO,M76="Yes",_xlpm.DupInv,O76="Yes",_xlpm.MissingVendor,N76="Yes",_xlpm.WeekendPost,P76="Yes",_xlfn.TEXTJOIN("; ",TRUE,IF(_xlpm.HighAmt,"High-dollar unapproved",""),IF(_xlpm.MissingPO,"Missing PO",""),IF(_xlpm.DupInv,"Duplicate invoice",""),IF(_xlpm.MissingVendor,"Missing vendor ID",""),IF(_xlpm.WeekendPost,"Weekend posting","")))
A77: 76 | B77: INV-100076 | C77: V1004 | D77: Delta Industrial | E77: 46202 | F77: 4468 | G77: Yes | H77: A. Brooks | I77: PO-2026-1076 | J77: Facilities | K77: Net 15 | L77: =IF(AND(F77>Dashboard!$B$3,G77="No"),"Yes","") | M77: =IF(I77="","Yes","") | N77: =IF(C77="","Yes","") | O77: =IF(COUNTIF($B$2:$B$301,B82)>1,"Yes","") | P77: =IF(WEEKDAY(E77,2)>5,"Yes","") | Q77: =_xlfn.LET(_xlpm.HighAmt,L77="Yes",_xlpm.MissingPO,M77="Yes",_xlpm.DupInv,O77="Yes",_xlpm.MissingVendor,N77="Yes",_xlpm.WeekendPost,P77="Yes",_xlfn.TEXTJOIN("; ",TRUE,IF(_xlpm.HighAmt,"High-dollar unapproved",""),IF(_xlpm.MissingPO,"Missing PO",""),IF(_xlpm.DupInv,"Duplicate invoice",""),IF(_xlpm.MissingVendor,"Missing vendor ID",""),IF(_xlpm.WeekendPost,"Weekend posting","")))
A78: 77 | B78: INV-100077 | C78: V1013 | D78: Metro Courier Services | E78: 46195 | F78: 350.12 | G78: Yes | H78: S. Walker | I78: PO-2026-1077 | J78: Accounting | K78: Net 45 | L78: =IF(AND(F78>Dashboard!$B$3,G78="No"),"Yes","") | M78: =IF(I78="","Yes","") | N78: =IF(C78="","Yes","") | O78: =IF(COUNTIF($B$2:$B$301,B83)>1,"Yes","") | P78: =IF(WEEKDAY(E78,2)>5,"Yes","") | Q78: =_xlfn.LET(_xlpm.HighAmt,L78="Yes",_xlpm.MissingPO,M78="Yes",_xlpm.DupInv,O78="Yes",_xlpm.MissingVendor,N78="Yes",_xlpm.WeekendPost,P78="Yes",_xlfn.TEXTJOIN("; ",TRUE,IF(_xlpm.HighAmt,"High-dollar unapproved",""),IF(_xlpm.MissingPO,"Missing PO",""),IF(_xlpm.DupInv,"Duplicate invoice",""),IF(_xlpm.MissingVendor,"Missing vendor ID",""),IF(_xlpm.WeekendPost,"Weekend posting","")))
A79: 78 | B79: INV-100078 | C79: V1012 | D79: Lakeside Communications | E79: 46109 | F79: 20572.31 | G79: No | J79: Accounting | K79: Net 30 | L79: =IF(AND(F79>Dashboard!$B$3,G79="No"),"Yes","") -> Yes | M79: =IF(I79="","Yes","") -> Yes | N79: =IF(C79="","Yes","") | O79: =IF(COUNTIF($B$2:$B$301,B84)>1,"Yes","") -> Yes | P79: =IF(WEEKDAY(E79,2)>5,"Yes","") -> Yes | Q79: =_xlfn.LET(_xlpm.HighAmt,L79="Yes",_xlpm.MissingPO,M79="Yes",_xlpm.DupInv,O79="Yes",_xlpm.MissingVendor,N79="Yes",_xlpm.WeekendPost,P79="Yes",_xlfn.TEXTJOIN("; ",TRUE,IF(_xlpm.HighAmt,"High-dollar unapproved",""),IF(_xlpm.MissingPO,"Missing PO",""),IF(_xlpm.DupInv,"Duplicate invoice",""),IF(_xlpm.MissingVendor,"Missing vendor ID",""),IF(_xlpm.WeekendPost,"Weekend posting",""))) -> High-dollar unapproved; Missing PO; Duplicate invoice; Weekend posting
A80: 79 | B80: INV-100079 | C80: V1008 | D80: Highland Medical Supply | E80: 46062 | F80: 275.02 | G80: Yes | H80: J. Ramirez | I80: PO-2026-1079 | J80: Purchasing | K80: Due on receipt | L80: =IF(AND(F80>Dashboard!$B$3,G80="No"),"Yes","") | M80: =IF(I80="","Yes","") | N80: =IF(C80="","Yes","") | O80: =IF(COUNTIF($B$2:$B$301,B85)>1,"Yes","") -> Yes | P80: =IF(WEEKDAY(E80,2)>5,"Yes","") | Q80: =_xlfn.LET(_xlpm.HighAmt,L80="Yes",_xlpm.MissingPO,M80="Yes",_xlpm.DupInv,O80="Yes",_xlpm.MissingVendor,N80="Yes",_xlpm.WeekendPost,P80="Yes",_xlfn.TEXTJOIN("; ",TRUE,IF(_xlpm.HighAmt,"High-dollar unapproved",""),IF(_xlpm.MissingPO,"Missing PO",""),IF(_xlpm.DupInv,"Duplicate invoice",""),IF(_xlpm.MissingVendor,"Missing vendor ID",""),IF(_xlpm.WeekendPost,"Weekend posting",""))) -> Duplicate invoice
A81: 80 | B81: INV-100080 | C81: V1015 | D81: Oak Street Maintenance | E81: 46122 | F81: 945.3 | G81: Yes | H81: S. Walker | I81: PO-2026-1080 | J81: Human Resources | K81: Due on receipt | L81: =IF(AND(F81>Dashboard!$B$3,G81="No"),"Yes","") | M81: =IF(I81="","Yes","") | N81: =IF(C81="","Yes","") | O81: =IF(COUNTIF($B$2:$B$301,B86)>1,"Yes","") | P81: =IF(WEEKDAY(E81,2)>5,"Yes","") | Q81: =_xlfn.LET(_xlpm.HighAmt,L81="Yes",_xlpm.MissingPO,M81="Yes",_xlpm.DupInv,O81="Yes",_xlpm.MissingVendor,N81="Yes",_xlpm.WeekendPost,P81="Yes",_xlfn.TEXTJOIN("; ",TRUE,IF(_xlpm.HighAmt,"High-dollar unapproved",""),IF(_xlpm.MissingPO,"Missing PO",""),IF(_xlpm.DupInv,"Duplicate invoice",""),IF(_xlpm.MissingVendor,"Missing vendor ID",""),IF(_xlpm.WeekendPost,"Weekend posting","")))
A82: 81 | B82: INV-100081 | C82: V1009 | D82: Ironwood Equipment | E82: 46143 | F82: 895.23 | G82: Yes | H82: J. Ramirez | I82: PO-2026-1081 | J82: Purchasing | K82: Net 15 | L82: =IF(AND(F82>Dashboard!$B$3,G82="No"),"Yes","") | M82: =IF(I82="","Yes","") | N82: =IF(C82="","Yes","") | O82: =IF(COUNTIF($B$2:$B$301,B87)>1,"Yes","") | P82: =IF(WEEKDAY(E82,2)>5,"Yes","") | Q82: =_xlfn.LET(_xlpm.HighAmt,L82="Yes",_xlpm.MissingPO,M82="Yes",_xlpm.DupInv,O82="Yes",_xlpm.MissingVendor,N82="Yes",_xlpm.WeekendPost,P82="Yes",_xlfn.TEXTJOIN("; ",TRUE,IF(_xlpm.HighAmt,"High-dollar unapproved",""),IF(_xlpm.MissingPO,"Missing PO",""),IF(_xlpm.DupInv,"Duplicate invoice",""),IF(_xlpm.MissingVendor,"Missing vendor ID",""),IF(_xlpm.WeekendPost,"Weekend posting","")))
A83: 82 | B83: INV-100082 | C83: V1009 | D83: Ironwood Equipment | E83: 46038 | F83: 783.49 | G83: Yes | H83: J. Ramirez | I83: PO-2026-1082 | J83: Accounting | K83: Net 45 | L83: =IF(AND(F83>Dashboard!$B$3,G83="No"),"Yes","") | M83: =IF(I83="","Yes","") | N83: =IF(C83="","Yes","") | O83: =IF(COUNTIF($B$2:$B$301,B88)>1,"Yes","") | P83: =IF(WEEKDAY(E83,2)>5,"Yes","") | Q83: =_xlfn.LET(_xlpm.HighAmt,L83="Yes",_xlpm.MissingPO,M83="Yes",_xlpm.DupInv,O83="Yes",_xlpm.MissingVendor,N83="Yes",_xlpm.WeekendPost,P83="Yes",_xlfn.TEXTJOIN("; ",TRUE,IF(_xlpm.HighAmt,"High-dollar unapproved",""),IF(_xlpm.MissingPO,"Missing PO",""),IF(_xlpm.DupInv,"Duplicate invoice",""),IF(_xlpm.MissingVendor,"Missing vendor ID",""),IF(_xlpm.WeekendPost,"Weekend posting","")))
A84: 83 | B84: INV-100083 | C84: V1008 | D84: Highland Medical Supply | E84: 46043 | F84: 249.83 | G84: Yes | H84: A. Brooks | I84: PO-2026-1083 | J84: Operations | K84: Net 45 | L84: =IF(AND(F84>Dashboard!$B$3,G84="No"),"Yes","") | M84: =IF(I84="","Yes","") | N84: =IF(C84="","Yes","") | O84: =IF(COUNTIF($B$2:$B$301,B89)>1,"Yes","") | P84: =IF(WEEKDAY(E84,2)>5,"Yes","") | Q84: =_xlfn.LET(_xlpm.HighAmt,L84="Yes",_xlpm.MissingPO,M84="Yes",_xlpm.DupInv,O84="Yes",_xlpm.MissingVendor,N84="Yes",_xlpm.WeekendPost,P84="Yes",_xlfn.TEXTJOIN("; ",TRUE,IF(_xlpm.HighAmt,"High-dollar unapproved",""),IF(_xlpm.MissingPO,"Missing PO",""),IF(_xlpm.DupInv,"Duplicate invoice",""),IF(_xlpm.MissingVendor,"Missing vendor ID",""),IF(_xlpm.WeekendPost,"Weekend posting","")))
A85: 84 | B85: INV-100083 | C85: V1002 | D85: Blue Ridge Technology | E85: 46148 | F85: 1833.28 | G85: Yes | H85: S. Walker | I85: PO-2026-1084 | J85: Purchasing | K85: Net 30 | L85: =IF(AND(F85>Dashboard!$B$3,G85="No"),"Yes","") | M85: =IF(I85="","Yes","") | N85: =IF(C85="","Yes","") | O85: =IF(COUNTIF($B$2:$B$301,B90)>1,"Yes","") | P85: =IF(WEEKDAY(E85,2)>5,"Yes","") | Q85: =_xlfn.LET(_xlpm.HighAmt,L85="Yes",_xlpm.MissingPO,M85="Yes",_xlpm.DupInv,O85="Yes",_xlpm.MissingVendor,N85="Yes",_xlpm.WeekendPost,P85="Yes",_xlfn.TEXTJOIN("; ",TRUE,IF(_xlpm.HighAmt,"High-dollar unapproved",""),IF(_xlpm.MissingPO,"Missing PO",""),IF(_xlpm.DupInv,"Duplicate invoice",""),IF(_xlpm.MissingVendor,"Missing vendor ID",""),IF(_xlpm.WeekendPost,"Weekend posting","")))
A86: 85 | B86: INV-100085 | C86: V1013 | D86: Metro Courier Services | E86: 46149 | F86: 1383.06 | G86: Yes | H86: S. Walker | I86: PO-2026-1085 | J86: Information Technology | K86: Net 15 | L86: =IF(AND(F86>Dashboard!$B$3,G86="No"),"Yes","") | M86: =IF(I86="","Yes","") | N86: =IF(C86="","Yes","") | O86: =IF(COUNTIF($B$2:$B$301,B91)>1,"Yes","") | P86: =IF(WEEKDAY(E86,2)>5,"Yes","") | Q86: =_xlfn.LET(_xlpm.HighAmt,L86="Yes",_xlpm.MissingPO,M86="Yes",_xlpm.DupInv,O86="Yes",_xlpm.MissingVendor,N86="Yes",_xlpm.WeekendPost,P86="Yes",_xlfn.TEXTJOIN("; ",TRUE,IF(_xlpm.HighAmt,"High-dollar unapproved",""),IF(_xlpm.MissingPO,"Missing PO",""),IF(_xlpm.DupInv,"Duplicate invoice",""),IF(_xlpm.MissingVendor,"Missing vendor ID",""),IF(_xlpm.WeekendPost,"Weekend posting","")))
A87: 86 | B87: INV-100086 | C87: V1012 | D87: Lakeside Communications | E87: 46111 | F87: 355.34 | G87: Yes | H87: A. Brooks | I87: PO-2026-1086 | J87: Facilities | K87: Due on receipt | L87: =IF(AND(F87>Dashboard!$B$3,G87="No"),"Yes","") | M87: =IF(I87="","Yes","") | N87: =IF(C87="","Yes","") | O87: =IF(COUNTIF($B$2:$B$301,B92)>1,"Yes","") | P87: =IF(WEEKDAY(E87,2)>5,"Yes","") | Q87: =_xlfn.LET(_xlpm.HighAmt,L87="Yes",_xlpm.MissingPO,M87="Yes",_xlpm.DupInv,O87="Yes",_xlpm.MissingVendor,N87="Yes",_xlpm.WeekendPost,P87="Yes",_xlfn.TEXTJOIN("; ",TRUE,IF(_xlpm.HighAmt,"High-dollar unapproved",""),IF(_xlpm.MissingPO,"Missing PO",""),IF(_xlpm.DupInv,"Duplicate invoice",""),IF(_xlpm.MissingVendor,"Missing vendor ID",""),IF(_xlpm.WeekendPost,"Weekend posting","")))
A88: 87 | B88: INV-100087 | C88: V1007 | D88: Gateway Business Products | E88: 46070 | F88: 3865.12 | G88: Yes | H88: A. Brooks | I88: PO-2026-1087 | J88: Information Technology | K88: Net 15 | L88: =IF(AND(F88>Dashboard!$B$3,G88="No"),"Yes","") | M88: =IF(I88="","Yes","") | N88: =IF(C88="","Yes","") | O88: =IF(COUNTIF($B$2:$B$301,B93)>1,"Yes","") | P88: =IF(WEEKDAY(E88,2)>5,"Yes","") | Q88: =_xlfn.LET(_xlpm.HighAmt,L88="Yes",_xlpm.MissingPO,M88="Yes",_xlpm.DupInv,O88="Yes",_xlpm.MissingVendor,N88="Yes",_xlpm.WeekendPost,P88="Yes",_xlfn.TEXTJOIN("; ",TRUE,IF(_xlpm.HighAmt,"High-dollar unapproved",""),IF(_xlpm.MissingPO,"Missing PO",""),IF(_xlpm.DupInv,"Duplicate invoice",""),IF(_xlpm.MissingVendor,"Missing vendor ID",""),IF(_xlpm.WeekendPost,"Weekend posting","")))
A89: 88 | B89: INV-100088 | C89: V1003 | D89: Central Printing Services | E89: 46027 | F89: 2601.41 | G89: Yes | H89: S. Walker | I89: PO-2026-1088 | J89: Accounting | K89: Net 15 | L89: =IF(AND(F89>Dashboard!$B$3,G89="No"),"Yes","") | M89: =IF(I89="","Yes","") | N89: =IF(C89="","Yes","") | O89: =IF(COUNTIF($B$2:$B$301,B94)>1,"Yes","") | P89: =IF(WEEKDAY(E89,2)>5,"Yes","") | Q89: =_xlfn.LET(_xlpm.HighAmt,L89="Yes",_xlpm.MissingPO,M89="Yes",_xlpm.DupInv,O89="Yes",_xlpm.MissingVendor,N89="Yes",_xlpm.WeekendPost,P89="Yes",_xlfn.TEXTJOIN("; ",TRUE,IF(_xlpm.HighAmt,"High-dollar unapproved",""),IF(_xlpm.MissingPO,"Missing PO",""),IF(_xlpm.DupInv,"Duplicate invoice",""),IF(_xlpm.MissingVendor,"Missing vendor ID",""),IF(_xlpm.WeekendPost,"Weekend posting","")))
A90: 89 | B90: INV-100089 | C90: V1006 | D90: Franklin Facility Services | E90: 46027 | F90: 2480.5 | G90: No | I90: PO-2026-1089 | J90: Human Resources | K90: Net 30 | L90: =IF(AND(F90>Dashboard!$B$3,G90="No"),"Yes","") | M90: =IF(I90="","Yes","") | N90: =IF(C90="","Yes","") | O90: =IF(COUNTIF($B$2:$B$301,B95)>1,"Yes","") | P90: =IF(WEEKDAY(E90,2)>5,"Yes","") | Q90: =_xlfn.LET(_xlpm.HighAmt,L90="Yes",_xlpm.MissingPO,M90="Yes",_xlpm.DupInv,O90="Yes",_xlpm.MissingVendor,N90="Yes",_xlpm.WeekendPost,P90="Yes",_xlfn.TEXTJOIN("; ",TRUE,IF(_xlpm.HighAmt,"High-dollar unapproved",""),IF(_xlpm.MissingPO,"Missing PO",""),IF(_xlpm.DupInv,"Duplicate invoice",""),IF(_xlpm.MissingVendor,"Missing vendor ID",""),IF(_xlpm.WeekendPost,"Weekend posting","")))
A91: 90 | B91: INV-100090 | C91: V1008 | D91: Highland Medical Supply | E91: 46121 | F91: 1734 | G91: Yes | H91: J. Ramirez | I91: PO-2026-1090 | J91: Accounting | K91: Net 30 | L91: =IF(AND(F91>Dashboard!$B$3,G91="No"),"Yes","") | M91: =IF(I91="","Yes","") | N91: =IF(C91="","Yes","") | O91: =IF(COUNTIF($B$2:$B$301,B96)>1,"Yes","") | P91: =IF(WEEKDAY(E91,2)>5,"Yes","") | Q91: =_xlfn.LET(_xlpm.HighAmt,L91="Yes",_xlpm.MissingPO,M91="Yes",_xlpm.DupInv,O91="Yes",_xlpm.MissingVendor,N91="Yes",_xlpm.WeekendPost,P91="Yes",_xlfn.TEXTJOIN("; ",TRUE,IF(_xlpm.HighAmt,"High-dollar unapproved",""),IF(_xlpm.MissingPO,"Missing PO",""),IF(_xlpm.DupInv,"Duplicate invoice",""),IF(_xlpm.MissingVendor,"Missing vendor ID",""),IF(_xlpm.WeekendPost,"Weekend posting","")))
A92: 91 | B92: INV-100091 | C92: V1020 | D92: Volunteer State Telecom | E92: 46104 | F92: 795.91 | G92: Yes | H92: E. Carter | I92: PO-2026-1091 | J92: Information Technology | K92: Net 15 | L92: =IF(AND(F92>Dashboard!$B$3,G92="No"),"Yes","") | M92: =IF(I92="","Yes","") | N92: =IF(C92="","Yes","") | O92: =IF(COUNTIF($B$2:$B$301,B97)>1,"Yes","") | P92: =IF(WEEKDAY(E92,2)>5,"Yes","") | Q92: =_xlfn.LET(_xlpm.HighAmt,L92="Yes",_xlpm.MissingPO,M92="Yes",_xlpm.DupInv,O92="Yes",_xlpm.MissingVendor,N92="Yes",_xlpm.WeekendPost,P92="Yes",_xlfn.TEXTJOIN("; ",TRUE,IF(_xlpm.HighAmt,"High-dollar unapproved",""),IF(_xlpm.MissingPO,"Missing PO",""),IF(_xlpm.DupInv,"Duplicate invoice",""),IF(_xlpm.MissingVendor,"Missing vendor ID",""),IF(_xlpm.WeekendPost,"Weekend posting","")))
A93: 92 | B93: INV-100092 | C93: V1003 | D93: Central Printing Services | E93: 46041 | F93: 7480.38 | G93: Yes | H93: J. Ramirez | I93: PO-2026-1092 | J93: Purchasing | K93: Due on receipt | L93: =IF(AND(F93>Dashboard!$B$3,G93="No"),"Yes","") | M93: =IF(I93="","Yes","") | N93: =IF(C93="","Yes","") | O93: =IF(COUNTIF($B$2:$B$301,B98)>1,"Yes","") | P93: =IF(WEEKDAY(E93,2)>5,"Yes","") | Q93: =_xlfn.LET(_xlpm.HighAmt,L93="Yes",_xlpm.MissingPO,M93="Yes",_xlpm.DupInv,O93="Yes",_xlpm.MissingVendor,N93="Yes",_xlpm.WeekendPost,P93="Yes",_xlfn.TEXTJOIN("; ",TRUE,IF(_xlpm.HighAmt,"High-dollar unapproved",""),IF(_xlpm.MissingPO,"Missing PO",""),IF(_xlpm.DupInv,"Duplicate invoice",""),IF(_xlpm.MissingVendor,"Missing vendor ID",""),IF(_xlpm.WeekendPost,"Weekend posting","")))
A94: 93 | B94: INV-100093 | C94: V1001 | D94: Acme Office Supply | E94: 46105 | F94: 1139.34 | G94: Yes | H94: E. Carter | I94: PO-2026-1093 | J94: Operations | K94: Net 45 | L94: =IF(AND(F94>Dashboard!$B$3,G94="No"),"Yes","") | M94: =IF(I94="","Yes","") | N94: =IF(C94="","Yes","") | O94: =IF(COUNTIF($B$2:$B$301,B99)>1,"Yes","") | P94: =IF(WEEKDAY(E94,2)>5,"Yes","") | Q94: =_xlfn.LET(_xlpm.HighAmt,L94="Yes",_xlpm.MissingPO,M94="Yes",_xlpm.DupInv,O94="Yes",_xlpm.MissingVendor,N94="Yes",_xlpm.WeekendPost,P94="Yes",_xlfn.TEXTJOIN("; ",TRUE,IF(_xlpm.HighAmt,"High-dollar unapproved",""),IF(_xlpm.MissingPO,"Missing PO",""),IF(_xlpm.DupInv,"Duplicate invoice",""),IF(_xlpm.MissingVendor,"Missing vendor ID",""),IF(_xlpm.WeekendPost,"Weekend posting","")))
A95: 94 | B95: INV-100094 | C95: V1014 | D95: Nashville Paper Company | E95: 46185 | F95: 1641.18 | G95: Yes | H95: S. Walker | I95: PO-2026-1094 | J95: Accounting | K95: Due on receipt | L95: =IF(AND(F95>Dashboard!$B$3,G95="No"),"Yes","") | M95: =IF(I95="","Yes","") | N95: =IF(C95="","Yes","") | O95: =IF(COUNTIF($B$2:$B$301,B100)>1,"Yes","") | P95: =IF(WEEKDAY(E95,2)>5,"Yes","") | Q95: =_xlfn.LET(_xlpm.HighAmt,L95="Yes",_xlpm.MissingPO,M95="Yes",_xlpm.DupInv,O95="Yes",_xlpm.MissingVendor,N95="Yes",_xlpm.WeekendPost,P95="Yes",_xlfn.TEXTJOIN("; ",TRUE,IF(_xlpm.HighAmt,"High-dollar unapproved",""),IF(_xlpm.MissingPO,"Missing PO",""),IF(_xlpm.DupInv,"Duplicate invoice",""),IF(_xlpm.MissingVendor,"Missing vendor ID",""),IF(_xlpm.WeekendPost,"Weekend posting","")))
A96: 95 | B96: INV-100095 | D96: Pioneer Packaging | E96: 46170 | F96: 524.58 | G96: Yes | H96: A. Brooks | I96: PO-2026-1095 | J96: Operations | K96: Net 15 | L96: =IF(AND(F96>Dashboard!$B$3,G96="No"),"Yes","") | M96: =IF(I96="","Yes","") | N96: =IF(C96="","Yes","") -> Yes | O96: =IF(COUNTIF($B$2:$B$301,B101)>1,"Yes","") | P96: =IF(WEEKDAY(E96,2)>5,"Yes","") | Q96: =_xlfn.LET(_xlpm.HighAmt,L96="Yes",_xlpm.MissingPO,M96="Yes",_xlpm.DupInv,O96="Yes",_xlpm.MissingVendor,N96="Yes",_xlpm.WeekendPost,P96="Yes",_xlfn.TEXTJOIN("; ",TRUE,IF(_xlpm.HighAmt,"High-dollar unapproved",""),IF(_xlpm.MissingPO,"Missing PO",""),IF(_xlpm.DupInv,"Duplicate invoice",""),IF(_xlpm.MissingVendor,"Missing vendor ID",""),IF(_xlpm.WeekendPost,"Weekend posting",""))) -> Missing vendor ID
A97: 96 | B97: INV-100096 | C97: V1017 | D97: Quality Data Systems | E97: 46035 | F97: 3338.83 | G97: Yes | H97: M. Thompson | I97: PO-2026-1096 | J97: Operations | K97: Net 15 | L97: =IF(AND(F97>Dashboard!$B$3,G97="No"),"Yes","") | M97: =IF(I97="","Yes","") | N97: =IF(C97="","Yes","") | O97: =IF(COUNTIF($B$2:$B$301,B102)>1,"Yes","") | P97: =IF(WEEKDAY(E97,2)>5,"Yes","") | Q97: =_xlfn.LET(_xlpm.HighAmt,L97="Yes",_xlpm.MissingPO,M97="Yes",_xlpm.DupInv,O97="Yes",_xlpm.MissingVendor,N97="Yes",_xlpm.WeekendPost,P97="Yes",_xlfn.TEXTJOIN("; ",TRUE,IF(_xlpm.HighAmt,"High-dollar unapproved",""),IF(_xlpm.MissingPO,"Missing PO",""),IF(_xlpm.DupInv,"Duplicate invoice",""),IF(_xlpm.MissingVendor,"Missing vendor ID",""),IF(_xlpm.WeekendPost,"Weekend posting","")))
A98: 97 | B98: INV-100097 | C98: V1004 | D98: Delta Industrial | E98: 46101 | F98: 590.06 | G98: Yes | H98: S. Walker | I98: PO-2026-1097 | J98: Human Resources | K98: Net 45 | L98: =IF(AND(F98>Dashboard!$B$3,G98="No"),"Yes","") | M98: =IF(I98="","Yes","") | N98: =IF(C98="","Yes","") | O98: =IF(COUNTIF($B$2:$B$301,B103)>1,"Yes","") | P98: =IF(WEEKDAY(E98,2)>5,"Yes","") | Q98: =_xlfn.LET(_xlpm.HighAmt,L98="Yes",_xlpm.MissingPO,M98="Yes",_xlpm.DupInv,O98="Yes",_xlpm.MissingVendor,N98="Yes",_xlpm.WeekendPost,P98="Yes",_xlfn.TEXTJOIN("; ",TRUE,IF(_xlpm.HighAmt,"High-dollar unapproved",""),IF(_xlpm.MissingPO,"Missing PO",""),IF(_xlpm.DupInv,"Duplicate invoice",""),IF(_xlpm.MissingVendor,"Missing vendor ID",""),IF(_xlpm.WeekendPost,"Weekend posting","")))
A99: 98 | B99: INV-100098 | C99: V1016 | D99: Pioneer Packaging | E99: 46163 | F99: 284.06 | G99: Yes | H99: S. Walker | I99: PO-2026-1098 | J99: Marketing | K99: Net 15 | L99: =IF(AND(F99>Dashboard!$B$3,G99="No"),"Yes","") | M99: =IF(I99="","Yes","") | N99: =IF(C99="","Yes","") | O99: =IF(COUNTIF($B$2:$B$301,B104)>1,"Yes","") | P99: =IF(WEEKDAY(E99,2)>5,"Yes","") | Q99: =_xlfn.LET(_xlpm.HighAmt,L99="Yes",_xlpm.MissingPO,M99="Yes",_xlpm.DupInv,O99="Yes",_xlpm.MissingVendor,N99="Yes",_xlpm.WeekendPost,P99="Yes",_xlfn.TEXTJOIN("; ",TRUE,IF(_xlpm.HighAmt,"High-dollar unapproved",""),IF(_xlpm.MissingPO,"Missing PO",""),IF(_xlpm.DupInv,"Duplicate invoice",""),IF(_xlpm.MissingVendor,"Missing vendor ID",""),IF(_xlpm.WeekendPost,"Weekend posting","")))
A100: 99 | B100: INV-100099 | C100: V1001 | D100: Acme Office Supply | E100: 46162 | F100: 619.98 | G100: No | I100: PO-2026-1099 | J100: Sales | K100: Due on receipt | L100: =IF(AND(F100>Dashboard!$B$3,G100="No"),"Yes","") | M100: =IF(I100="","Yes","") | N100: =IF(C100="","Yes","") | O100: =IF(COUNTIF($B$2:$B$301,B105)>1,"Yes","") | P100: =IF(WEEKDAY(E100,2)>5,"Yes","") | Q100: =_xlfn.LET(_xlpm.HighAmt,L100="Yes",_xlpm.MissingPO,M100="Yes",_xlpm.DupInv,O100="Yes",_xlpm.MissingVendor,N100="Yes",_xlpm.WeekendPost,P100="Yes",_xlfn.TEXTJOIN("; ",TRUE,IF(_xlpm.HighAmt,"High-dollar unapproved",""),IF(_xlpm.MissingPO,"Missing PO",""),IF(_xlpm.DupInv,"Duplicate invoice",""),IF(_xlpm.MissingVendor,"Missing vendor ID",""),IF(_xlpm.WeekendPost,"Weekend posting","")))
A101: 100 | B101: INV-100100 | C101: V1016 | D101: Pioneer Packaging | E101: 46161 | F101: 2864.79 | G101: Yes | H101: S. Walker | I101: PO-2026-1100 | J101: Accounting | K101: Net 45 | L101: =IF(AND(F101>Dashboard!$B$3,G101="No"),"Yes","") | M101: =IF(I101="","Yes","") | N101: =IF(C101="","Yes","") | O101: =IF(COUNTIF($B$2:$B$301,B106)>1,"Yes","") | P101: =IF(WEEKDAY(E101,2)>5,"Yes","") | Q101: =_xlfn.LET(_xlpm.HighAmt,L101="Yes",_xlpm.MissingPO,M101="Yes",_xlpm.DupInv,O101="Yes",_xlpm.MissingVendor,N101="Yes",_xlpm.WeekendPost,P101="Yes",_xlfn.TEXTJOIN("; ",TRUE,IF(_xlpm.HighAmt,"High-dollar unapproved",""),IF(_xlpm.MissingPO,"Missing PO",""),IF(_xlpm.DupInv,"Duplicate invoice",""),IF(_xlpm.MissingVendor,"Missing vendor ID",""),IF(_xlpm.WeekendPost,"Weekend posting","")))
A102: 101 | B102: INV-100101 | C102: V1017 | D102: Quality Data Systems | E102: 46202 | F102: 1963.66 | G102: Yes | H102: S. Walker | J102: Sales | K102: Due on receipt | L102: =IF(AND(F102>Dashboard!$B$3,G102="No"),"Yes","") | M102: =IF(I102="","Yes","") -> Yes | N102: =IF(C102="","Yes","") | O102: =IF(COUNTIF($B$2:$B$301,B107)>1,"Yes","") | P102: =IF(WEEKDAY(E102,2)>5,"Yes","") | Q102: =_xlfn.LET(_xlpm.HighAmt,L102="Yes",_xlpm.MissingPO,M102="Yes",_xlpm.DupInv,O102="Yes",_xlpm.MissingVendor,N102="Yes",_xlpm.WeekendPost,P102="Yes",_xlfn.TEXTJOIN("; ",TRUE,IF(_xlpm.HighAmt,"High-dollar unapproved",""),IF(_xlpm.MissingPO,"Missing PO",""),IF(_xlpm.DupInv,"Duplicate invoice",""),IF(_xlpm.MissingVendor,"Missing vendor ID",""),IF(_xlpm.WeekendPost,"Weekend posting",""))) -> Missing PO
A103: 102 | B103: INV-100102 | C103: V1012 | D103: Lakeside Communications | E103: 46200 | F103: 1942.1 | G103: No | I103: PO-2026-1102 | J103: Marketing | K103: Net 30 | L103: =IF(AND(F103>Dashboard!$B$3,G103="No"),"Yes","") | M103: =IF(I103="","Yes","") | N103: =IF(C103="","Yes","") | O103: =IF(COUNTIF($B$2:$B$301,B108)>1,"Yes","") | P103: =IF(WEEKDAY(E103,2)>5,"Yes","") -> Yes | Q103: =_xlfn.LET(_xlpm.HighAmt,L103="Yes",_xlpm.MissingPO,M103="Yes",_xlpm.DupInv,O103="Yes",_xlpm.MissingVendor,N103="Yes",_xlpm.WeekendPost,P103="Yes",_xlfn.TEXTJOIN("; ",TRUE,IF(_xlpm.HighAmt,"High-dollar unapproved",""),IF(_xlpm.MissingPO,"Missing PO",""),IF(_xlpm.DupInv,"Duplicate invoice",""),IF(_xlpm.MissingVendor,"Missing vendor ID",""),IF(_xlpm.WeekendPost,"Weekend posting",""))) -> Weekend posting
...

Sheet Exception Report
A1: Dynamic AP Exception Report
A3: The formula in cell A7 returns only transactions containing at least one exception.
A6: Record ID | B6: Invoice Number | C6: Vendor ID | D6: Vendor | E6: Invoice Date | F6: Amount | G6: Approved | H6: Approver | I6: Purchase Order | J6: Department | K6: Payment Terms | L6: High-Dollar Unapproved | M6: Missing PO | N6: Missing Vendor ID | O6: Duplicate Invoice | P6: Weekend Posting | Q6: Exception Status
A7: {=_xlfn._xlws.FILTER('AP Export'!A2:Q301,'AP Export'!Q2:Q301<>"","No exceptions found")} -> 3 | B7: INV-100003 | C7: V1013 | D7: Metro Courier Services | E7: 46060 | F7: 730.62 | G7: Yes | H7: E. Carter | I7: PO-2026-1003 | J7: Information Technology | K7: Net 30 | P7: Yes | Q7: Weekend posting
A8: 5 | B8: INV-100005 | C8: V1014 | D8: Nashville Paper Company | E8: 46156 | F8: 3335.66 | G8: Yes | H8: S. Walker | I8: 0 | J8: Facilities | K8: Net 30 | M8: Yes | Q8: Missing PO
A9: 9 | B9: INV-100009 | C9: 0 | D9: Pioneer Packaging | E9: 46064 | F9: 7319.92 | G9: No | H9: 0 | I9: PO-2026-1009 | J9: Information Technology | K9: Net 30 | N9: Yes | Q9: Missing vendor ID
A10: 12 | B10: INV-100012 | C10: V1015 | D10: Oak Street Maintenance | E10: 46104 | F10: 26357.43 | G10: No | H10: 0 | I10: PO-2026-1012 | J10: Accounting | K10: Due on receipt | L10: Yes | Q10: High-dollar unapproved
A11: 18 | B11: INV-100018 | C11: V1008 | D11: Highland Medical Supply | E11: 46132 | F11: 650.55 | G11: Yes | H11: S. Walker | I11: 0 | J11: Sales | K11: Due on receipt | M11: Yes | Q11: Missing PO
A12: 26 | B12: INV-100026 | C12: V1012 | D12: Lakeside Communications | E12: 46077 | F12: 158.19 | G12: Yes | H12: M. Thompson | I12: PO-2026-1026 | J12: Information Technology | K12: Net 45 | O12: Yes | Q12: Duplicate invoice
A13: 27 | B13: INV-100027 | C13: V1013 | D13: Metro Courier Services | E13: 46116 | F13: 1209.66 | G13: Yes | H13: M. Thompson | I13: PO-2026-1027 | J13: Marketing | K13: Net 45 | O13: Yes | P13: Yes | Q13: Duplicate invoice; Weekend posting
A14: 37 | B14: INV-100037 | C14: V1009 | D14: Ironwood Equipment | E14: 46051 | F14: 1254.61 | G14: Yes | H14: E. Carter | I14: 0 | J14: Operations | K14: Net 45 | M14: Yes | Q14: Missing PO
A15: 44 | B15: INV-100044 | C15: 0 | D15: Nashville Paper Company | E15: 46062 | F15: 4025.83 | G15: Yes | H15: M. Thompson | I15: PO-2026-1044 | J15: Facilities | K15: Net 45 | N15: Yes | Q15: Missing vendor ID
A16: 47 | B16: INV-100047 | C16: V1020 | D16: Volunteer State Telecom | E16: 46100 | F16: 12306.73 | G16: No | H16: 0 | I16: PO-2026-1047 | J16: Information Technology | K16: Due on receipt | L16: Yes | Q16: High-dollar unapproved
A17: 49 | B17: INV-100049 | C17: V1018 | D17: River City Couriers | E17: 46151 | F17: 1623.79 | G17: Yes | H17: E. Carter | I17: PO-2026-1049 | J17: Information Technology | K17: Net 45 | P17: Yes | Q17: Weekend posting
A18: 66 | B18: INV-100066 | C18: 0 | D18: Central Printing Services | E18: 46132 | F18: 1563.05 | G18: Yes | H18: J. Ramirez | I18: 0 | J18: Facilities | K18: Net 15 | M18: Yes | N18: Yes | Q18: Missing PO; Missing vendor ID
A19: 78 | B19: INV-100078 | C19: V1012 | D19: Lakeside Communications | E19: 46109 | F19: 20572.31 | G19: No | H19: 0 | I19: 0 | J19: Accounting | K19: Net 30 | L19: Yes | M19: Yes | O19: Yes | P19: Yes | Q19: High-dollar unapproved; Missing PO; Duplicate invoice; Weekend posting
A20: 79 | B20: INV-100079 | C20: V1008 | D20: Highland Medical Supply | E20: 46062 | F20: 275.02 | G20: Yes | H20: J. Ramirez | I20: PO-2026-1079 | J20: Purchasing | K20: Due on receipt | O20: Yes | Q20: Duplicate invoice
A21: 95 | B21: INV-100095 | C21: 0 | D21: Pioneer Packaging | E21: 46170 | F21: 524.58 | G21: Yes | H21: A. Brooks | I21: PO-2026-1095 | J21: Operations | K21: Net 15 | N21: Yes | Q21: Missing vendor ID
A22: 101 | B22: INV-100101 | C22: V1017 | D22: Quality Data Systems | E22: 46202 | F22: 1963.66 | G22: Yes | H22: S. Walker | I22: 0 | J22: Sales | K22: Due on receipt | M22: Yes | Q22: Missing PO
A23: 102 | B23: INV-100102 | C23: V1012 | D23: Lakeside Communications | E23: 46200 | F23: 1942.1 | G23: No | H23: 0 | I23: PO-2026-1102 | J23: Marketing | K23: Net 30 | P23: Yes | Q23: Weekend posting
A24: 116 | B24: INV-100116 | C24: V1006 | D24: Franklin Facility Services | E24: 46111 | F24: 17014.21 | G24: No | H24: 0 | I24: PO-2026-1116 | J24: Operations | K24: Net 15 | L24: Yes | Q24: High-dollar unapproved
A25: 126 | B25: INV-100126 | C25: V1007 | D25: Gateway Business Products | E25: 46172 | F25: 534.19 | G25: Yes | H25: A. Brooks | I25: PO-2026-1126 | J25: Purchasing | K25: Net 15 | P25: Yes | Q25: Weekend posting
A26: 129 | B26: INV-100129 | C26: V1017 | D26: Quality Data Systems | E26: 46115 | F26: 509.53 | G26: No | H26: 0 | I26: 0 | J26: Accounting | K26: Net 45 | M26: Yes | Q26: Missing PO
A27: 137 | B27: INV-100137 | C27: 0 | D27: Oak Street Maintenance | E27: 46147 | F27: 456.82 | G27: Yes | H27: M. Thompson | I27: PO-2026-1137 | J27: Information Technology | K27: Net 15 | N27: Yes | Q27: Missing vendor ID
A28: 140 | B28: INV-100140 | C28: V1014 | D28: Nashville Paper Company | E28: 46197 | F28: 1037.62 | G28: Yes | H28: E. Carter | I28: PO-2026-1140 | J28: Sales | K28: Due on receipt | O28: Yes | Q28: Duplicate invoice
A29: 141 | B29: INV-100141 | C29: V1014 | D29: Nashville Paper Company | E29: 46118 | F29: 1283.8 | G29: Yes | H29: J. Ramirez | I29: PO-2026-1141 | J29: Facilities | K29: Net 30 | O29: Yes | Q29: Duplicate invoice
A30: 151 | B30: INV-100151 | C30: V1007 | D30: Gateway Business Products | E30: 46130 | F30: 2596.87 | G30: Yes | H30: A. Brooks | I30: PO-2026-1151 | J30: Facilities | K30: Net 15 | P30: Yes | Q30: Weekend posting
A31: 155 | B31: INV-100155 | C31: V1018 | D31: River City Couriers | E31: 46167 | F31: 674.58 | G31: Yes | H31: E. Carter | I31: 0 | J31: Accounting | K31: Net 15 | M31: Yes | Q31: Missing PO
A32: 164 | B32: INV-100164 | C32: V1002 | D32: Blue Ridge Technology | E32: 46181 | F32: 16249.61 | G32: No | H32: 0 | I32: PO-2026-1164 | J32: Purchasing | K32: Due on receipt | L32: Yes | Q32: High-dollar unapproved
A33: 177 | B33: INV-100177 | C33: V1009 | D33: Ironwood Equipment | E33: 46067 | F33: 436.14 | G33: Yes | H33: J. Ramirez | I33: PO-2026-1177 | J33: Information Technology | K33: Net 30 | P33: Yes | Q33: Weekend posting
A34: 178 | B34: INV-100178 | C34: 0 | D34: Volunteer State Telecom | E34: 46160 | F34: 396.77 | G34: Yes | H34: J. Ramirez | I34: PO-2026-1178 | J34: Marketing | K34: Net 15 | N34: Yes | Q34: Missing vendor ID
A35: 184 | B35: INV-100184 | C35: V1005 | D35: Evergreen Consulting | E35: 46161 | F35: 756.82 | G35: Yes | H35: M. Thompson | I35: 0 | J35: Information Technology | K35: Due on receipt | M35: Yes | Q35: Missing PO
A36: 203 | B36: INV-100203 | C36: V1013 | D36: Metro Courier Services | E36: 46039 | F36: 16465.93 | G36: No | H36: 0 | I36: 0 | J36: Operations | K36: Due on receipt | L36: Yes | M36: Yes | P36: Yes | Q36: High-dollar unapproved; Missing PO; Weekend posting
A37: 205 | B37: INV-100205 | C37: V1018 | D37: River City Couriers | E37: 46069 | F37: 617.25 | G37: Yes | H37: J. Ramirez | I37: PO-2026-1205 | J37: Purchasing | K37: Due on receipt | O37: Yes | Q37: Duplicate invoice
A38: 206 | B38: INV-100206 | C38: V1009 | D38: Ironwood Equipment | E38: 46202 | F38: 1140.5 | G38: Yes | H38: S. Walker | I38: PO-2026-1206 | J38: Accounting | K38: Due on receipt | O38: Yes | Q38: Duplicate invoice
A39: 221 | B39: INV-100221 | C39: 0 | D39: Acme Office Supply | E39: 46139 | F39: 374.29 | G39: Yes | H39: S. Walker | I39: 0 | J39: Purchasing | K39: Net 45 | M39: Yes | N39: Yes | Q39: Missing PO; Missing vendor ID
A40: 229 | B40: INV-100229 | C40: V1005 | D40: Evergreen Consulting | E40: 46186 | F40: 867.77 | G40: Yes | H40: A. Brooks | I40: PO-2026-1229 | J40: Purchasing | K40: Net 45 | P40: Yes | Q40: Weekend posting
A41: 244 | B41: INV-100244 | C41: V1018 | D41: River City Couriers | E41: 46070 | F41: 21470.42 | G41: No | H41: 0 | I41: PO-2026-1244 | J41: Marketing | K41: Net 30 | L41: Yes | Q41: High-dollar unapproved
A42: 247 | B42: INV-100247 | C42: V1001 | D42: Acme Office Supply | E42: 46085 | F42: 287.42 | G42: Yes | H42: A. Brooks | I42: 0 | J42: Sales | K42: Due on receipt | M42: Yes | Q42: Missing PO
A43: 252 | B43: INV-100252 | C43: V1003 | D43: Central Printing Services | E43: 46144 | F43: 954.19 | G43: Yes | H43: E. Carter | I43: PO-2026-1252 | J43: Information Technology | K43: Net 45 | P43: Yes | Q43: Weekend posting
A44: 259 | B44: INV-100259 | C44: 0 | D44: Highland Medical Supply | E44: 46073 | F44: 1133.24 | G44: Yes | H44: M. Thompson | I44: PO-2026-1259 | J44: Purchasing | K44: Due on receipt | N44: Yes | Q44: Missing vendor ID
A45: 268 | B45: INV-100268 | C45: V1001 | D45: Acme Office Supply | E45: 46202 | F45: 2708.88 | G45: Yes | H45: J. Ramirez | I45: 0 | J45: Human Resources | K45: Net 45 | M45: Yes | Q45: Missing PO
A46: 269 | B46: INV-100269 | C46: V1001 | D46: Acme Office Supply | E46: 46202 | F46: 700.46 | G46: Yes | H46: E. Carter | I46: PO-2026-1269 | J46: Marketing | K46: Due on receipt | O46: Yes | Q46: Duplicate invoice
A47: 270 | B47: INV-100270 | C47: V1010 | D47: Jefferson Office Interiors | E47: 46055 | F47: 839.46 | G47: No | H47: 0 | I47: PO-2026-1270 | J47: Purchasing | K47: Net 45 | O47: Yes | Q47: Duplicate invoice
A48: 281 | B48: INV-100281 | C48: V1006 | D48: Franklin Facility Services | E48: 46027 | F48: 324.88 | G48: Yes | H48: A. Brooks | I48: 0 | J48: Operations | K48: Net 30 | M48: Yes | Q48: Missing PO
A49: 289 | B49: INV-100289 | C49: V1015 | D49: Oak Street Maintenance | E49: 46186 | F49: 26815.44 | G49: No | H49: 0 | I49: PO-2026-1289 | J49: Operations | K49: Net 15 | L49: Yes | P49: Yes | Q49: High-dollar unapproved; Weekend posting
A50: 294 | B50: INV-100294 | C50: 0 | D50: Metro Courier Services | E50: 46154 | F50: 553.47 | G50: Yes | H50: M. Thompson | I50: PO-2026-1294 | J50: Purchasing | K50: Net 30 | N50: Yes | Q50: Missing vendor ID
A51: 297 | B51: INV-100297 | C51: V1020 | D51: Volunteer State Telecom | E51: 46097 | F51: 4399.14 | G51: Yes | H51: A. Brooks | I51: 0 | J51: Human Resources | K51: Net 15 | M51: Yes | Q51: Missing PO

Sheet Dashboard
A1: Accounts Payable Exception Dashboard
A3: High-dollar threshold | B3: 10000 | D3: Change cell B3 to adjust the high-dollar test.
A5: Metric | B5: Count
A6: Total transactions | B6: =COUNTA('AP Export'!A2:A301) -> 300
A7: Transactions with exceptions | B7: =SUMPRODUCT(--('AP Export'!Q2:Q301<>"")) -> 45
A8: High-dollar unapproved | B8: =COUNTIF('AP Export'!L2:L301,"Yes") -> 8
A9: Missing PO | B9: =COUNTIF('AP Export'!M2:M301,"Yes") -> 15
A10: Duplicate invoice | B10: =COUNTIF('AP Export'!O2:O301,"Yes") -> 10
A11: Missing vendor ID | B11: =COUNTIF('AP Export'!N2:N301,"Yes") -> 9
A12: Weekend posting | B12: =COUNTIF('AP Export'!P2:P301,"Yes") -> 12
